View In:
ArcGIS JavaScript
ArcGIS Online Map Viewer
ArcGIS Earth
Service Description: Test/CCAP_LC2_2011_HI_tif
Name: Test/CCAP_LC2_2011_HI_tif
Description:
Single Fused Map Cache: false
Extent:
XMin: -48798.169137785444
YMin: 2357165.7703737626
XMax: 19349.830862214527
YMax: 2410541.7703737626
Spatial Reference: 32605
(32605)
LatestVCSWkid(0)
Initial Extent:
XMin: -48798.169137785444
YMin: 2357165.7703737626
XMax: 19349.830862214527
YMax: 2410541.7703737626
Spatial Reference: 32605
(32605)
LatestVCSWkid(0)
Full Extent:
XMin: -48798.169137785444
YMin: 2357165.7703737626
XMax: 19349.830862214527
YMax: 2410541.7703737626
Spatial Reference: 32605
(32605)
LatestVCSWkid(0)
Pixel Size X: 2.399999999999999
Pixel Size Y: 2.4
Band Count: 1
Pixel Type: U8
RasterFunction Infos: {"rasterFunctionInfos": [{
"name": "None",
"description": "",
"help": ""
}]}
Mensuration Capabilities: Basic
Inspection Capabilities:
Has Histograms: true
Has Colormap: false
Has Multi Dimensions : false
Rendering Rule:
Min Scale: 0
Max Scale: 0
Copyright Text:
Service Data Type: esriImageServiceDataTypeThematic
Min Values: 2
Max Values: 22
Mean Values: 10.141054755654
Standard Deviation Values: 5.2003420814243
Object ID Field:
Fields:
None
Default Mosaic Method: Center
Allowed Mosaic Methods:
SortField:
SortValue: null
Mosaic Operator: First
Default Compression Quality: 75
Default Resampling Method: Bilinear
Max Record Count: null
Max Image Height: 4100
Max Image Width: 15000
Max Download Image Count: null
Max Mosaic Image Count: null
Allow Raster Function: true
Allow Copy: true
Allow Analysis: true
Allow Compute TiePoints: false
Supports Statistics: false
Supports Advanced Queries: false
Use StandardizedQueries: true
Raster Type Infos:
Name: Raster Dataset
Description: Supports all ArcGIS Raster Datasets
Help:
Has Raster Attribute Table: true
Edit Fields Info: null
Ownership Based AccessControl For Rasters: null
Child Resources:
Info
Raster Attribute Table
Histograms
Statistics
Key Properties
Legend
Raster Function Infos
Supported Operations:
Export Image
Identify
Measure
Compute Histograms
Compute Statistics Histograms
Get Samples
Compute Class Statistics
Query Boundary
Compute Pixel Location
Compute Angles
Validate
Project