{
 "currentVersion": 11.5,
 "serviceDescription": "Test/CCAP_LC2_2011_HI_tif",
 "name": "Test/CCAP_LC2_2011_HI_tif",
 "description": "",
 "extent": {
  "xmin": -48798.169137785444,
  "ymin": 2357165.7703737626,
  "xmax": 19349.830862214527,
  "ymax": 2410541.7703737626,
  "spatialReference": {
   "wkid": 32605,
   "latestWkid": 32605
  }
 },
 "initialExtent": {
  "xmin": -48798.169137785444,
  "ymin": 2357165.7703737626,
  "xmax": 19349.830862214527,
  "ymax": 2410541.7703737626,
  "spatialReference": {
   "wkid": 32605,
   "latestWkid": 32605
  }
 },
 "fullExtent": {
  "xmin": -48798.169137785444,
  "ymin": 2357165.7703737626,
  "xmax": 19349.830862214527,
  "ymax": 2410541.7703737626,
  "spatialReference": {
   "wkid": 32605,
   "latestWkid": 32605
  }
 },
 "sortableFields": "",
 "bandCount": 1,
 "pixelType": "U8",
 "minValues": [
  2
 ],
 "maxValues": [
  22
 ],
 "meanValues": [
  10.141054755654
 ],
 "stdvValues": [
  5.2003420814243
 ],
 "serviceProperties": "Center<\/MosaicMethod>First<\/MosaicOperator>true<\/SortAscending><\/LockImageID><\/TileOrderField>0<\/TileOrderBase>0.000000<\/AvgImageSpacingX>0.000000<\/AvgImageSpacingY>0.0<\/ViewPointX>0.0<\/ViewPointY>0.0<\/ViewPointDefShiftX>0.0<\/ViewPointDefShiftY>None<\/CompressionMethod>75<\/CompressionQuality>0.010000<\/CompressionTolerance>Bilinear<\/SamplingMethod><\/ImageServiceProperties><\/ImageServer>",
 "allowedFields": "",
 "hasMultidimensions": false,
 "pixelSizeX": 2.399999999999999,
 "pixelSizeY": 2.4,
 "meanPixelSize": 2.3999999999999995,
 "datasetFormat": "TIFF",
 "uncompressedSize": 631504800,
 "blockWidth": 128,
 "blockHeight": 128,
 "compressionType": "LZW",
 "bandNames": [
  "Band_1"
 ],
 "allowCopy": true,
 "allowAnalysis": true,
 "itemAccess": false,
 "inspectionCapabilities": "",
 "noDataValue": 255,
 "noDataValues": [
  255
 ],
 "minPixelSize": 0,
 "maxPixelSize": 0,
 "copyrightText": "",
 "serviceDataType": "esriImageServiceDataTypeThematic",
 "serviceSourceType": "esriImageServiceSourceTypeDataset",
 "objectIdField": "",
 "fields": [],
 "capabilities": "Image,Metadata,Mensuration",
 "defaultMosaicMethod": "Center",
 "allowedMosaicMethods": "",
 "sortField": "",
 "sortValue": null,
 "sortAscending": true,
 "mosaicOperator": "First",
 "defaultCompressionQuality": 75,
 "defaultResamplingMethod": "Bilinear",
 "maxImageHeight": 4100,
 "maxImageWidth": 15000,
 "allowRasterFunction": true,
 "rasterFunctionInfos": [
  {
   "name": "None",
   "description": "",
   "help": ""
  }
 ],
 "rasterTypeInfos": [
  {
   "name": "Raster Dataset",
   "description": "Supports all ArcGIS Raster Datasets",
   "help": ""
  }
 ],
 "mensurationCapabilities": "Basic",
 "hasHistograms": true,
 "hasColormap": false,
 "hasRasterAttributeTable": true,
 "minScale": 0,
 "maxScale": 0,
 "exportTilesAllowed": false,
 "supportsStatistics": false,
 "supportsAdvancedQueries": false,
 "editFieldsInfo": null,
 "ownershipBasedAccessControlForRasters": null,
 "allowComputeTiePoints": false,
 "useStandardizedQueries": true,
 "advancedQueryCapabilities": {
  "useStandardizedQueries": true,
  "supportsStatistics": false,
  "supportsOrderBy": false,
  "supportsDistinct": false,
  "supportsPagination": false
 },
 "spatialReference": {
  "wkid": 32605,
  "latestWkid": 32605
 }
}
