View In:
ArcGIS JavaScript
ArcGIS Online Map Viewer
ArcGIS Earth
Service Description: C-CAP 2012 land cover for the islands that make up the US Virgin Islands (St. Croix, St. Thomas, St. John) and is derived from the source C-CAP 2012 datasetl. This dataset has been mosaicked from the three source datasets for each island. For authoritative documentation see
this NPS Data Store record. See the
NPS Environmental Settings protocol for more information.
Name: LandscapeDynamics/NPS_IMD_Landcover_USVirginIslands_Level2_CCAP2012
Description: C-CAP 2012 land cover for the islands that make up the US Virgin Islands (St. Croix, St. Thomas, St. John) and is derived from the source C-CAP 2012 datasetl. This dataset has been mosaicked from the three source datasets for each island. For authoritative documentation see
this NPS Data Store record. See the
NPS Environmental Settings protocol for more information.
Single Fused Map Cache: false
Extent:
XMin: 3330896.912215336
YMin: -19575.569454344906
XMax: 3412799.3122153366
YMax: 67914.03054565564
Spatial Reference: 102039
(102039)
LatestVCSWkid(0)
Initial Extent:
XMin: 3330896.912215336
YMin: -19575.569454344906
XMax: 3412799.3122153366
YMax: 67914.03054565564
Spatial Reference: 102039
(102039)
LatestVCSWkid(0)
Full Extent:
XMin: 3330896.912215336
YMin: -19575.569454344906
XMax: 3412799.3122153366
YMax: 67914.03054565564
Spatial Reference: 102039
(102039)
LatestVCSWkid(0)
Pixel Size X: 2.400000000000011
Pixel Size Y: 2.400000000000015
Band Count: 1
Pixel Type: S8
RasterFunction Infos: {"rasterFunctionInfos": [{
"name": "None",
"description": "",
"help": ""
}]}
Mensuration Capabilities: Basic
Inspection Capabilities:
Has Histograms: true
Has Colormap: false
Has Multi Dimensions : false
Rendering Rule:
Min Scale: 0
Max Scale: 0
Copyright Text: NPS Inventory and Monitoring Division
Service Data Type: esriImageServiceDataTypeGeneric
Min Values: 0
Max Values: 21
Mean Values: 0.55149965193261
Standard Deviation Values: 2.6005653857498
Object ID Field:
Fields:
None
Default Mosaic Method: Center
Allowed Mosaic Methods:
SortField:
SortValue: null
Mosaic Operator: First
Default Compression Quality: 75
Default Resampling Method: Bilinear
Max Record Count: null
Max Image Height: 4100
Max Image Width: 15000
Max Download Image Count: null
Max Mosaic Image Count: null
Allow Raster Function: true
Allow Copy: true
Allow Analysis: true
Allow Compute TiePoints: false
Supports Statistics: false
Supports Advanced Queries: false
Use StandardizedQueries: true
Raster Type Infos:
Name: Raster Dataset
Description: Supports all ArcGIS Raster Datasets
Help:
Has Raster Attribute Table: true
Edit Fields Info: null
Ownership Based AccessControl For Rasters: null
Child Resources:
Info
Raster Attribute Table
Histograms
Statistics
Key Properties
Legend
Raster Function Infos
Supported Operations:
Export Image
Identify
Measure
Compute Histograms
Compute Statistics Histograms
Get Samples
Compute Class Statistics
Query Boundary
Compute Pixel Location
Compute Angles
Validate
Project