{
"currentVersion": 11.5,
"serviceDescription": "C-CAP 2012 land cover for the islands that make up the US Virgin Islands<\/a> (St. Croix, St. Thomas, St. John) and is derived from the source C-CAP 2012 datasetl. This dataset has been mosaicked from the three source datasets for each island. For authoritative documentation see this NPS Data Store record<\/a>. See the NPS Environmental Settings protocol<\/a> for more information.",
"name": "LandscapeDynamics/NPS_IMD_Landcover_USVirginIslands_Level2_CCAP2012",
"description": "C-CAP 2012 land cover for the islands that make up the US Virgin Islands<\/a> (St. Croix, St. Thomas, St. John) and is derived from the source C-CAP 2012 datasetl. This dataset has been mosaicked from the three source datasets for each island. For authoritative documentation see this NPS Data Store record<\/a>. See the NPS Environmental Settings protocol<\/a> for more information.",
"extent": {
"xmin": 3330896.912215336,
"ymin": -19575.569454344906,
"xmax": 3412799.3122153366,
"ymax": 67914.03054565564,
"spatialReference": {
"wkid": 102039,
"latestWkid": 102039
}
},
"initialExtent": {
"xmin": 3330896.912215336,
"ymin": -19575.569454344906,
"xmax": 3412799.3122153366,
"ymax": 67914.03054565564,
"spatialReference": {
"wkid": 102039,
"latestWkid": 102039
}
},
"fullExtent": {
"xmin": 3330896.912215336,
"ymin": -19575.569454344906,
"xmax": 3412799.3122153366,
"ymax": 67914.03054565564,
"spatialReference": {
"wkid": 102039,
"latestWkid": 102039
}
},
"sortableFields": "",
"bandCount": 1,
"pixelType": "S8",
"minValues": [
0
],
"maxValues": [
21
],
"meanValues": [
0.55149965193261
],
"stdvValues": [
2.6005653857498
],
"serviceProperties": "Center<\/MosaicMethod>First<\/MosaicOperator>true<\/SortAscending><\/LockImageID><\/TileOrderField>0<\/TileOrderBase>0.000000<\/AvgImageSpacingX>0.000000<\/AvgImageSpacingY>0.0<\/ViewPointX>0.0<\/ViewPointY>0.0<\/ViewPointDefShiftX>0.0<\/ViewPointDefShiftY>None<\/CompressionMethod>75<\/CompressionQuality>0.010000<\/CompressionTolerance>Bilinear<\/SamplingMethod><\/ImageServiceProperties><\/ImageServer>",
"allowedFields": "",
"hasMultidimensions": false,
"pixelSizeX": 2.400000000000011,
"pixelSizeY": 2.400000000000015,
"meanPixelSize": 2.400000000000013,
"datasetFormat": "TIFF",
"uncompressedSize": 1244029204,
"blockWidth": 128,
"blockHeight": 128,
"compressionType": "LZW",
"bandNames": [
"Band_1"
],
"allowCopy": true,
"allowAnalysis": true,
"itemAccess": false,
"inspectionCapabilities": "",
"noDataValue": 256,
"noDataValues": [
256
],
"minPixelSize": 0,
"maxPixelSize": 0,
"copyrightText": "NPS Inventory and Monitoring Division",
"serviceDataType": "esriImageServiceDataTypeGeneric",
"serviceSourceType": "esriImageServiceSourceTypeDataset",
"objectIdField": "",
"fields": [],
"capabilities": "Image,Metadata,Mensuration",
"defaultMosaicMethod": "Center",
"allowedMosaicMethods": "",
"sortField": "",
"sortValue": null,
"sortAscending": true,
"mosaicOperator": "First",
"defaultCompressionQuality": 75,
"defaultResamplingMethod": "Bilinear",
"maxImageHeight": 4100,
"maxImageWidth": 15000,
"allowRasterFunction": true,
"rasterFunctionInfos": [
{
"name": "None",
"description": "",
"help": ""
}
],
"rasterTypeInfos": [
{
"name": "Raster Dataset",
"description": "Supports all ArcGIS Raster Datasets",
"help": ""
}
],
"mensurationCapabilities": "Basic",
"hasHistograms": true,
"hasColormap": false,
"hasRasterAttributeTable": true,
"minScale": 0,
"maxScale": 0,
"exportTilesAllowed": false,
"supportsStatistics": false,
"supportsAdvancedQueries": false,
"editFieldsInfo": null,
"ownershipBasedAccessControlForRasters": null,
"allowComputeTiePoints": false,
"useStandardizedQueries": true,
"advancedQueryCapabilities": {
"useStandardizedQueries": true,
"supportsStatistics": false,
"supportsOrderBy": false,
"supportsDistinct": false,
"supportsPagination": false
},
"spatialReference": {
"wkid": 102039,
"latestWkid": 102039
}
}