View In:
  ArcGIS JavaScript
  ArcGIS Online Map Viewer
  ArcGIS Earth
Service Description:  Test/ALR_Data_Distribution
Name:  Test/ALR_Data_Distribution
Description:  
Single Fused Map Cache:  false
Extent: 
XMin: -2431623.698399461
YMin: 264689.34365073964
XMax: 2373026.301600539
YMax: 3206789.3436507396
Spatial Reference: 0
 (0)
 LatestVCSWkid(0)
Initial Extent:
XMin: -2431623.698399461
YMin: 264689.34365073964
XMax: 2373026.301600539
YMax: 3206789.3436507396
Spatial Reference: 0
 (0)
 LatestVCSWkid(0)
Full Extent:
XMin: -2431623.698399461
YMin: 264689.34365073964
XMax: 2373026.301600539
YMax: 3206789.3436507396
Spatial Reference: 0
 (0)
 LatestVCSWkid(0)
Pixel Size X: 450.0
Pixel Size Y:  450.0
Band Count: 1
Pixel Type: F32
RasterFunction Infos:  {"rasterFunctionInfos": [{
 "name": "None",
 "description": "",
 "help": ""
}]}
Mensuration Capabilities: Basic
Inspection Capabilities: 
Has Histograms:  true
Has Colormap:  false
Has Multi Dimensions :  false
Rendering Rule: 
Min Scale:  0
Max Scale:  0
Copyright Text:  
Service Data Type:  esriImageServiceDataTypeGeneric
Min Values:  0.0025827803183346987
Max Values:  132.42747497558594
Mean Values:  2.3790959929829087
Standard Deviation Values:  5.664868290587592
Object ID Field:  
Fields: 
None
Default Mosaic Method:  Center
Allowed Mosaic Methods:  
SortField:  
SortValue:  null
Mosaic Operator:  First
Default Compression Quality:  75
Default Resampling Method:  Bilinear
Max Record Count:  null
Max Image Height:  4100
Max Image Width:  15000
Max Download Image Count:  null
Max Mosaic Image Count:  null
Allow Raster Function:  true
Allow Copy:  true
Allow Analysis:  true
Allow Compute TiePoints:  false
Supports Statistics:  false
Supports Advanced Queries:  false
Use StandardizedQueries:  true
Raster Type Infos: 
Name: Raster Dataset
Description: Supports all ArcGIS Raster Datasets
Help: 
Has Raster Attribute Table: false
Edit Fields Info:  null
Ownership Based AccessControl For Rasters:  null
Child Resources:
  
Info
  Histograms
  Statistics
  Key Properties
  Legend
  Raster Function Infos
Supported Operations:
  
Export Image
  Identify
  Measure
  Compute Histograms
  Compute Statistics Histograms
  Get Samples
  Compute Class Statistics
  Query Boundary
  Compute Pixel Location
  Compute Angles
  Validate
  Project