View In:
ArcGIS JavaScript
ArcGIS Online Map Viewer
ArcGIS Earth
Service Description: NRSSData/salr2019_tif
Name: NRSSData/salr2019_tif
Description:
Single Fused Map Cache: false
Extent:
XMin: -2587000.08822356
YMin: -141643.35419920646
XMax: 2489449.91177644
YMax: 3583906.6458007935
Spatial Reference: 0
(0)
LatestVCSWkid(0)
Initial Extent:
XMin: -2587000.08822356
YMin: -141643.35419920646
XMax: 2489449.91177644
YMax: 3583906.6458007935
Spatial Reference: 0
(0)
LatestVCSWkid(0)
Full Extent:
XMin: -2587000.08822356
YMin: -141643.35419920646
XMax: 2489449.91177644
YMax: 3583906.6458007935
Spatial Reference: 0
(0)
LatestVCSWkid(0)
Pixel Size X: 450.0
Pixel Size Y: 450.0
Band Count: 1
Pixel Type: F32
RasterFunction Infos: {"rasterFunctionInfos": [{
"name": "None",
"description": "",
"help": ""
}]}
Mensuration Capabilities: Basic
Inspection Capabilities:
Has Histograms: true
Has Colormap: false
Has Multi Dimensions : false
Rendering Rule:
Min Scale: 0
Max Scale: 0
Copyright Text:
Service Data Type: esriImageServiceDataTypeGeneric
Min Values: 0
Max Values: 141.06011962891
Mean Values: 1.3598257531361
Standard Deviation Values: 4.3309272018183
Object ID Field:
Fields:
None
Default Mosaic Method: Center
Allowed Mosaic Methods:
SortField:
SortValue: null
Mosaic Operator: First
Default Compression Quality: 75
Default Resampling Method: Bilinear
Max Record Count: null
Max Image Height: 4100
Max Image Width: 15000
Max Download Image Count: null
Max Mosaic Image Count: null
Allow Raster Function: true
Allow Copy: true
Allow Analysis: true
Allow Compute TiePoints: false
Supports Statistics: false
Supports Advanced Queries: false
Use StandardizedQueries: true
Raster Type Infos:
Name: Raster Dataset
Description: Supports all ArcGIS Raster Datasets
Help:
Has Raster Attribute Table: false
Edit Fields Info: null
Ownership Based AccessControl For Rasters: null
Child Resources:
Info
Histograms
Statistics
Key Properties
Legend
Raster Function Infos
Supported Operations:
Export Image
Identify
Measure
Compute Histograms
Compute Statistics Histograms
Get Samples
Compute Class Statistics
Query Boundary
Compute Pixel Location
Compute Angles
Validate
Project