View In:
ArcGIS JavaScript
ArcGIS Online Map Viewer
ArcGIS Earth
Service Description: C-CAP 2007 natural versus converted land cover for the islands that make up the US Virgin Islands (St. Croix, St. Thomas, St. John) and is derived from the USVI C-CAP 2007 level 2 land cover dataset. For authoritative documentation see
this NPS Data Store record. See the
NPS Environmental Settings protocol for more information.
Name: LandscapeDynamics/NPS_IMD_Landcover_USVirginIslands_NaturalConverted_CCAP2007
Description: C-CAP 2007 natural versus converted land cover for the islands that make up the US Virgin Islands (St. Croix, St. Thomas, St. John) and is derived from the USVI C-CAP 2007 level 2 land cover dataset. For authoritative documentation see
this NPS Data Store record. See the
NPS Environmental Settings protocol for more information.
Single Fused Map Cache: false
Extent:
XMin: 3327452.912215336
YMin: -15505.169454344883
XMax: 3410732.9122153353
YMax: 69745.23054565427
Spatial Reference: 102039
(102039)
LatestVCSWkid(0)
Initial Extent:
XMin: 3327452.912215336
YMin: -15505.169454344883
XMax: 3410732.9122153353
YMax: 69745.23054565427
Spatial Reference: 102039
(102039)
LatestVCSWkid(0)
Full Extent:
XMin: 3327452.912215336
YMin: -15505.169454344883
XMax: 3410732.9122153353
YMax: 69745.23054565427
Spatial Reference: 102039
(102039)
LatestVCSWkid(0)
Pixel Size X: 2.3999999999999733
Pixel Size Y: 2.399999999999976
Band Count: 1
Pixel Type: U4
RasterFunction Infos: {"rasterFunctionInfos": [{
"name": "None",
"description": "",
"help": ""
}]}
Mensuration Capabilities: Basic
Inspection Capabilities:
Has Histograms: true
Has Colormap: false
Has Multi Dimensions : false
Rendering Rule:
Min Scale: 0
Max Scale: 0
Copyright Text: NPS Inventory and Monitoring Division
Service Data Type: esriImageServiceDataTypeThematic
Min Values: 1
Max Values: 2
Mean Values: 1.7623434960614
Standard Deviation Values: 0.4256476157157
Object ID Field:
Fields:
None
Default Mosaic Method: Center
Allowed Mosaic Methods:
SortField:
SortValue: null
Mosaic Operator: First
Default Compression Quality: 75
Default Resampling Method: Bilinear
Max Record Count: null
Max Image Height: 4100
Max Image Width: 15000
Max Download Image Count: null
Max Mosaic Image Count: null
Allow Raster Function: true
Allow Copy: true
Allow Analysis: true
Allow Compute TiePoints: false
Supports Statistics: false
Supports Advanced Queries: false
Use StandardizedQueries: true
Raster Type Infos:
Name: Raster Dataset
Description: Supports all ArcGIS Raster Datasets
Help:
Has Raster Attribute Table: true
Edit Fields Info: null
Ownership Based AccessControl For Rasters: null
Child Resources:
Info
Raster Attribute Table
Histograms
Statistics
Key Properties
Legend
Raster Function Infos
Supported Operations:
Export Image
Identify
Measure
Compute Histograms
Compute Statistics Histograms
Get Samples
Compute Class Statistics
Query Boundary
Compute Pixel Location
Compute Angles
Validate
Project