View In:
ArcGIS JavaScript
ArcGIS Online Map Viewer
ArcGIS Earth
Service Description: C-CAP 2005 natural versus converted land cover for the island of Saipan and is derived from the Saipan C-CAP 2005 level 2 land cover dataset. For authoritative documentation see
this NPS Data Store record. See the
NPS Environmental Settings protocol for more information.
Name: LandscapeDynamics/NPS_IMD_Landcover_Saipan_NaturalConverted_CCAP2005
Description: C-CAP 2005 natural versus converted land cover for the island of Saipan and is derived from the Saipan C-CAP 2005 level 2 land cover dataset. For authoritative documentation see
this NPS Data Store record. See the
NPS Environmental Settings protocol for more information.
Single Fused Map Cache: false
Extent:
XMin: 359167.2
YMin: 1668816.0
XMax: 374510.4
YMax: 1690814.4
Spatial Reference: 32655
(32655)
LatestVCSWkid(0)
Initial Extent:
XMin: 359167.2
YMin: 1668816.0
XMax: 374510.4
YMax: 1690814.4
Spatial Reference: 32655
(32655)
LatestVCSWkid(0)
Full Extent:
XMin: 359167.2
YMin: 1668816.0
XMax: 374510.4
YMax: 1690814.4
Spatial Reference: 32655
(32655)
LatestVCSWkid(0)
Pixel Size X: 2.4000000000000017
Pixel Size Y: 2.3999999999999897
Band Count: 1
Pixel Type: U2
RasterFunction Infos: {"rasterFunctionInfos": [{
"name": "None",
"description": "",
"help": ""
}]}
Mensuration Capabilities: Basic
Inspection Capabilities:
Has Histograms: true
Has Colormap: false
Has Multi Dimensions : false
Rendering Rule:
Min Scale: 0
Max Scale: 0
Copyright Text: NPS Inventory and Monitoring Division
Service Data Type: esriImageServiceDataTypeGeneric
Min Values: 1
Max Values: 2
Mean Values: 1.7914401400122
Standard Deviation Values: 0.40627903279863
Object ID Field:
Fields:
None
Default Mosaic Method: Center
Allowed Mosaic Methods:
SortField:
SortValue: null
Mosaic Operator: First
Default Compression Quality: 75
Default Resampling Method: Bilinear
Max Record Count: null
Max Image Height: 4100
Max Image Width: 15000
Max Download Image Count: null
Max Mosaic Image Count: null
Allow Raster Function: true
Allow Copy: true
Allow Analysis: true
Allow Compute TiePoints: false
Supports Statistics: false
Supports Advanced Queries: false
Use StandardizedQueries: true
Raster Type Infos:
Name: Raster Dataset
Description: Supports all ArcGIS Raster Datasets
Help:
Has Raster Attribute Table: true
Edit Fields Info: null
Ownership Based AccessControl For Rasters: null
Child Resources:
Info
Raster Attribute Table
Histograms
Statistics
Key Properties
Legend
Raster Function Infos
Supported Operations:
Export Image
Identify
Measure
Compute Histograms
Compute Statistics Histograms
Get Samples
Compute Class Statistics
Query Boundary
Compute Pixel Location
Compute Angles
Validate
Project