View In:
ArcGIS JavaScript
ArcGIS Online Map Viewer
ArcGIS Earth
Service Description: C-CAP 2010 land cover for the islands of Hawaii, Maui and Molokai and is derived from the source CCAP 2010 dataset. This dataset has been mosaicked from the three source datasets for each island. For authoritative documentation see
this NPS Data Store record. See the
NPS Environmental Settings protocol for more information.
Name: LandscapeDynamics/NPS_IMD_Landcover_Hawaii_BigIsland_Maui_Molokai_Level2_CCAP2010
Description: C-CAP 2010 land cover for the islands of Hawaii, Maui and Molokai and is derived from the source CCAP 2010 dataset. This dataset has been mosaicked from the three source datasets for each island. For authoritative documentation see
this NPS Data Store record. See the
NPS Environmental Settings protocol for more information.
Single Fused Map Cache: false
Extent:
XMin: 49999.20000048839
YMin: 2088856.8000691163
XMax: 314186.4000004798
YMax: 2355595.2000691076
Spatial Reference: 32605
(32605)
LatestVCSWkid(0)
Initial Extent:
XMin: 49999.20000048839
YMin: 2088856.8000691163
XMax: 314186.4000004798
YMax: 2355595.2000691076
Spatial Reference: 32605
(32605)
LatestVCSWkid(0)
Full Extent:
XMin: 49999.20000048839
YMin: 2088856.8000691163
XMax: 314186.4000004798
YMax: 2355595.2000691076
Spatial Reference: 32605
(32605)
LatestVCSWkid(0)
Pixel Size X: 2.399999999999922
Pixel Size Y: 2.3999999999999218
Band Count: 1
Pixel Type: U8
RasterFunction Infos: {"rasterFunctionInfos": [{
"name": "None",
"description": "",
"help": ""
}]}
Mensuration Capabilities: Basic
Inspection Capabilities:
Has Histograms: true
Has Colormap: false
Has Multi Dimensions : false
Rendering Rule:
Min Scale: 0
Max Scale: 0
Copyright Text: NPS Inventory and Monitoring Division
Service Data Type: esriImageServiceDataTypeGeneric
Min Values: 2
Max Values: 22
Mean Values: 11.944452646751
Standard Deviation Values: 4.838991057262
Object ID Field:
Fields:
None
Default Mosaic Method: Center
Allowed Mosaic Methods:
SortField:
SortValue: null
Mosaic Operator: First
Default Compression Quality: 75
Default Resampling Method: Bilinear
Max Record Count: null
Max Image Height: 4100
Max Image Width: 15000
Max Download Image Count: null
Max Mosaic Image Count: null
Allow Raster Function: true
Allow Copy: true
Allow Analysis: true
Allow Compute TiePoints: false
Supports Statistics: false
Supports Advanced Queries: false
Use StandardizedQueries: true
Raster Type Infos:
Name: Raster Dataset
Description: Supports all ArcGIS Raster Datasets
Help:
Has Raster Attribute Table: true
Edit Fields Info: null
Ownership Based AccessControl For Rasters: null
Child Resources:
Info
Raster Attribute Table
Histograms
Statistics
Key Properties
Legend
Raster Function Infos
Supported Operations:
Export Image
Identify
Measure
Compute Histograms
Compute Statistics Histograms
Get Samples
Compute Class Statistics
Query Boundary
Compute Pixel Location
Compute Angles
Validate
Project