View In:
ArcGIS JavaScript
ArcGIS Online Map Viewer
ArcGIS Earth
Service Description: C-CAP 2011 land cover for the island of Guam is derived from the source CCAP 2011 dataset. For authoritative documentation see
this NPS Data Store record. See the
NPS Environmental Settings protocol for more information.
Name: LandscapeDynamics/NPS_IMD_Landcover_Guam_Level2_CCAP2011
Description: C-CAP 2011 land cover for the island of Guam is derived from the source CCAP 2011 dataset. For authoritative documentation see
this NPS Data Store record. See the
NPS Environmental Settings protocol for more information.
Single Fused Map Cache: false
Extent:
XMin: 241365.92994164804
YMin: 1463146.283156062
XMax: 280685.12994164147
YMax: 1511892.6831560538
Spatial Reference: 32655
(32655)
LatestVCSWkid(0)
Initial Extent:
XMin: 241365.92994164804
YMin: 1463146.283156062
XMax: 280685.12994164147
YMax: 1511892.6831560538
Spatial Reference: 32655
(32655)
LatestVCSWkid(0)
Full Extent:
XMin: 241365.92994164804
YMin: 1463146.283156062
XMax: 280685.12994164147
YMax: 1511892.6831560538
Spatial Reference: 32655
(32655)
LatestVCSWkid(0)
Pixel Size X: 2.3999999999995993
Pixel Size Y: 2.399999999999594
Band Count: 1
Pixel Type: S8
RasterFunction Infos: {"rasterFunctionInfos": [{
"name": "None",
"description": "",
"help": ""
}]}
Mensuration Capabilities: Basic
Inspection Capabilities:
Has Histograms: true
Has Colormap: false
Has Multi Dimensions : false
Rendering Rule:
Min Scale: 0
Max Scale: 0
Copyright Text: NPS Inventory and Monitoring Division
Service Data Type: esriImageServiceDataTypeGeneric
Min Values: 2
Max Values: 22
Mean Values: 9.8488919092155
Standard Deviation Values: 4.7179189216742
Object ID Field:
Fields:
None
Default Mosaic Method: Center
Allowed Mosaic Methods:
SortField:
SortValue: null
Mosaic Operator: First
Default Compression Quality: 75
Default Resampling Method: Bilinear
Max Record Count: null
Max Image Height: 4100
Max Image Width: 15000
Max Download Image Count: null
Max Mosaic Image Count: null
Allow Raster Function: true
Allow Copy: true
Allow Analysis: true
Allow Compute TiePoints: false
Supports Statistics: false
Supports Advanced Queries: false
Use StandardizedQueries: true
Raster Type Infos:
Name: Raster Dataset
Description: Supports all ArcGIS Raster Datasets
Help:
Has Raster Attribute Table: true
Edit Fields Info: null
Ownership Based AccessControl For Rasters: null
Child Resources:
Info
Raster Attribute Table
Histograms
Statistics
Key Properties
Legend
Raster Function Infos
Supported Operations:
Export Image
Identify
Measure
Compute Histograms
Compute Statistics Histograms
Get Samples
Compute Class Statistics
Query Boundary
Compute Pixel Location
Compute Angles
Validate
Project