View In:
ArcGIS JavaScript
ArcGIS Online Map Viewer
ArcGIS Earth
Service Description: C-CAP 2010 natural versus converted land cover for the islands that make up the island of American Samoa (East Manua, West Manua, Tutuila) and is derived from the American Samoa C-CAP 2011 level 2 land cover dataset and is intended for use with the NPS Inventory and Monitoring national Environmental Settings protocol. For authoritative documentation see
this NPS Data Store record. See the
NPS Environmental Settings protocol for more information.
Name: LandscapeDynamics/NPS_IMD_Landcover_AmericanSamoa_NaturalConverted_CCAP2010
Description: C-CAP 2010 natural versus converted land cover for the islands that make up the island of American Samoa (East Manua, West Manua, Tutuila) and is derived from the American Samoa C-CAP 2011 level 2 land cover dataset and is intended for use with the NPS Inventory and Monitoring national Environmental Settings protocol. For authoritative documentation see
this NPS Data Store record. See the
NPS Environmental Settings protocol for more information.
Single Fused Map Cache: false
Extent:
XMin: 516303.00006341137
YMin: 8410657.229563316
XMax: 671635.8000633984
YMax: 8434854.029563315
Spatial Reference: 32702
(32702)
LatestVCSWkid(0)
Initial Extent:
XMin: 516303.00006341137
YMin: 8410657.229563316
XMax: 671635.8000633984
YMax: 8434854.029563315
Spatial Reference: 32702
(32702)
LatestVCSWkid(0)
Full Extent:
XMin: 516303.00006341137
YMin: 8410657.229563316
XMax: 671635.8000633984
YMax: 8434854.029563315
Spatial Reference: 32702
(32702)
LatestVCSWkid(0)
Pixel Size X: 2.3999999999998
Pixel Size Y: 2.3999999999998893
Band Count: 1
Pixel Type: U2
RasterFunction Infos: {"rasterFunctionInfos": [{
"name": "None",
"description": "",
"help": ""
}]}
Mensuration Capabilities: Basic
Inspection Capabilities:
Has Histograms: true
Has Colormap: false
Has Multi Dimensions : false
Rendering Rule:
Min Scale: 0
Max Scale: 0
Copyright Text: NPS Inventory and Monitoring Division
Service Data Type: esriImageServiceDataTypeGeneric
Min Values: 1
Max Values: 2
Mean Values: 1.9097837888922
Standard Deviation Values: 0.2864912709894
Object ID Field:
Fields:
None
Default Mosaic Method: Center
Allowed Mosaic Methods:
SortField:
SortValue: null
Mosaic Operator: First
Default Compression Quality: 75
Default Resampling Method: Bilinear
Max Record Count: null
Max Image Height: 4100
Max Image Width: 15000
Max Download Image Count: null
Max Mosaic Image Count: null
Allow Raster Function: true
Allow Copy: true
Allow Analysis: true
Allow Compute TiePoints: false
Supports Statistics: false
Supports Advanced Queries: false
Use StandardizedQueries: true
Raster Type Infos:
Name: Raster Dataset
Description: Supports all ArcGIS Raster Datasets
Help:
Has Raster Attribute Table: true
Edit Fields Info: null
Ownership Based AccessControl For Rasters: null
Child Resources:
Info
Raster Attribute Table
Histograms
Statistics
Key Properties
Legend
Raster Function Infos
Supported Operations:
Export Image
Identify
Measure
Compute Histograms
Compute Statistics Histograms
Get Samples
Compute Class Statistics
Query Boundary
Compute Pixel Location
Compute Angles
Validate
Project