{
"currentVersion": 11.5,
"serviceDescription": "CCAP 2016 land cover for the island of Saipan<\/a> is derived from the source CCAP 2016 dataset. For authoritative documentation see this NPS Data Store record<\/a>. See the NPS Environmental Settings protocol<\/a> for more information.",
"name": "LandscapeDynamics/NPS_IMD_Landcover_Saipan_Level2_CCAP2016",
"description": "CCAP 2016 land cover for the island of Saipan<\/a> is derived from the source CCAP 2016 dataset. For authoritative documentation see this NPS Data Store record<\/a>. See the NPS Environmental Settings protocol<\/a> for more information.",
"extent": {
"xmin": 359167.2,
"ymin": 1668816,
"xmax": 374510.4,
"ymax": 1690814.4,
"spatialReference": {
"wkid": 32655,
"latestWkid": 32655
}
},
"initialExtent": {
"xmin": 359167.2,
"ymin": 1668816,
"xmax": 374510.4,
"ymax": 1690814.4,
"spatialReference": {
"wkid": 32655,
"latestWkid": 32655
}
},
"fullExtent": {
"xmin": 359167.2,
"ymin": 1668816,
"xmax": 374510.4,
"ymax": 1690814.4,
"spatialReference": {
"wkid": 32655,
"latestWkid": 32655
}
},
"sortableFields": "",
"bandCount": 1,
"pixelType": "S8",
"minValues": [
2
],
"maxValues": [
21
],
"meanValues": [
9.3601440044071
],
"stdvValues": [
3.9687349805703
],
"serviceProperties": "Center<\/MosaicMethod>First<\/MosaicOperator>true<\/SortAscending><\/LockImageID><\/TileOrderField>0<\/TileOrderBase>0.000000<\/AvgImageSpacingX>0.000000<\/AvgImageSpacingY>0.0<\/ViewPointX>0.0<\/ViewPointY>0.0<\/ViewPointDefShiftX>0.0<\/ViewPointDefShiftY>None<\/CompressionMethod>75<\/CompressionQuality>0.010000<\/CompressionTolerance>Bilinear<\/SamplingMethod><\/ImageServiceProperties><\/ImageServer>",
"allowedFields": "",
"hasMultidimensions": false,
"pixelSizeX": 2.4000000000000017,
"pixelSizeY": 2.3999999999999897,
"meanPixelSize": 2.399999999999996,
"datasetFormat": "TIFF",
"uncompressedSize": 58598238,
"blockWidth": 128,
"blockHeight": 128,
"compressionType": "LZW",
"bandNames": [
"Band_1"
],
"allowCopy": true,
"allowAnalysis": true,
"itemAccess": false,
"inspectionCapabilities": "",
"noDataValue": -128,
"noDataValues": [
-128
],
"minPixelSize": 0,
"maxPixelSize": 0,
"copyrightText": "NPS Inventory and Monitoring Division",
"serviceDataType": "esriImageServiceDataTypeGeneric",
"serviceSourceType": "esriImageServiceSourceTypeDataset",
"objectIdField": "",
"fields": [],
"capabilities": "Image,Metadata,Mensuration",
"defaultMosaicMethod": "Center",
"allowedMosaicMethods": "",
"sortField": "",
"sortValue": null,
"sortAscending": true,
"mosaicOperator": "First",
"defaultCompressionQuality": 75,
"defaultResamplingMethod": "Bilinear",
"maxImageHeight": 4100,
"maxImageWidth": 15000,
"allowRasterFunction": true,
"rasterFunctionInfos": [
{
"name": "None",
"description": "",
"help": ""
}
],
"rasterTypeInfos": [
{
"name": "Raster Dataset",
"description": "Supports all ArcGIS Raster Datasets",
"help": ""
}
],
"mensurationCapabilities": "Basic",
"hasHistograms": true,
"hasColormap": false,
"hasRasterAttributeTable": true,
"minScale": 0,
"maxScale": 0,
"exportTilesAllowed": false,
"supportsStatistics": false,
"supportsAdvancedQueries": false,
"editFieldsInfo": null,
"ownershipBasedAccessControlForRasters": null,
"allowComputeTiePoints": false,
"useStandardizedQueries": true,
"advancedQueryCapabilities": {
"useStandardizedQueries": true,
"supportsStatistics": false,
"supportsOrderBy": false,
"supportsDistinct": false,
"supportsPagination": false
},
"spatialReference": {
"wkid": 32655,
"latestWkid": 32655
}
}