<?xml version="1.0" encoding="UTF-8" standalone="no"?>
<metadata xml:lang="en">
<Esri>
<CreaDate>20210907</CreaDate>
<CreaTime>14090800</CreaTime>
<ArcGISFormat>1.0</ArcGISFormat>
<ArcGISstyle>FGDC CSDGM Metadata</ArcGISstyle>
<SyncOnce>FALSE</SyncOnce>
<DataProperties>
<itemProps>
<itemName Sync="TRUE">NPS_IMD_Landcover_Saipan_CCAP2005.tif</itemName>
<nativeExtBox>
<westBL Sync="TRUE">359167.200000</westBL>
<eastBL Sync="TRUE">374510.400000</eastBL>
<southBL Sync="TRUE">1668816.000000</southBL>
<northBL Sync="TRUE">1690814.400000</northBL>
<exTypeCode Sync="TRUE">1</exTypeCode>
</nativeExtBox>
<imsContentType Sync="TRUE">002</imsContentType>
</itemProps>
<coordRef>
<type Sync="TRUE">Projected</type>
<geogcsn Sync="TRUE">GCS_WGS_1984</geogcsn>
<csUnits Sync="TRUE">Linear Unit: Meter (1.000000)</csUnits>
<projcsn Sync="TRUE">WGS_1984_UTM_Zone_55N</projcsn>
<peXml Sync="TRUE">&lt;ProjectedCoordinateSystem xsi:type='typens:ProjectedCoordinateSystem' xmlns:xsi='http://www.w3.org/2001/XMLSchema-instance' xmlns:xs='http://www.w3.org/2001/XMLSchema' xmlns:typens='http://www.esri.com/schemas/ArcGIS/10.6'&gt;&lt;WKT&gt;PROJCS[&amp;quot;WGS_1984_UTM_Zone_55N&amp;quot;,GEOGCS[&amp;quot;GCS_WGS_1984&amp;quot;,DATUM[&amp;quot;D_WGS_1984&amp;quot;,SPHEROID[&amp;quot;WGS_1984&amp;quot;,6378137.0,298.257223563]],PRIMEM[&amp;quot;Greenwich&amp;quot;,0.0],UNIT[&amp;quot;Degree&amp;quot;,0.0174532925199433]],PROJECTION[&amp;quot;Transverse_Mercator&amp;quot;],PARAMETER[&amp;quot;False_Easting&amp;quot;,500000.0],PARAMETER[&amp;quot;False_Northing&amp;quot;,0.0],PARAMETER[&amp;quot;Central_Meridian&amp;quot;,147.0],PARAMETER[&amp;quot;Scale_Factor&amp;quot;,0.9996],PARAMETER[&amp;quot;Latitude_Of_Origin&amp;quot;,0.0],UNIT[&amp;quot;Meter&amp;quot;,1.0],AUTHORITY[&amp;quot;EPSG&amp;quot;,32655]]&lt;/WKT&gt;&lt;XOrigin&gt;-5120900&lt;/XOrigin&gt;&lt;YOrigin&gt;-9998100&lt;/YOrigin&gt;&lt;XYScale&gt;450445547.3910538&lt;/XYScale&gt;&lt;ZOrigin&gt;-100000&lt;/ZOrigin&gt;&lt;ZScale&gt;10000&lt;/ZScale&gt;&lt;MOrigin&gt;-100000&lt;/MOrigin&gt;&lt;MScale&gt;10000&lt;/MScale&gt;&lt;XYTolerance&gt;0.001&lt;/XYTolerance&gt;&lt;ZTolerance&gt;0.001&lt;/ZTolerance&gt;&lt;MTolerance&gt;0.001&lt;/MTolerance&gt;&lt;HighPrecision&gt;true&lt;/HighPrecision&gt;&lt;WKID&gt;32655&lt;/WKID&gt;&lt;LatestWKID&gt;32655&lt;/LatestWKID&gt;&lt;/ProjectedCoordinateSystem&gt;</peXml>
</coordRef>
<RasterProperties>
<General>
<PixelDepth Sync="TRUE">8</PixelDepth>
<HasColormap Sync="TRUE">FALSE</HasColormap>
<CompressionType Sync="TRUE">LZW</CompressionType>
<NumBands Sync="TRUE">1</NumBands>
<Format Sync="TRUE">TIFF</Format>
<HasPyramids Sync="TRUE">TRUE</HasPyramids>
<SourceType Sync="TRUE">continuous</SourceType>
<PixelType Sync="TRUE">signed integer</PixelType>
<NoDataValue Sync="TRUE">-128</NoDataValue>
</General>
</RasterProperties>
</DataProperties>
<SyncDate>20210929</SyncDate>
<SyncTime>09532100</SyncTime>
<ModDate>20210929</ModDate>
<ModTime>09532100</ModTime>
</Esri>
<mdLang>
<languageCode value="eng">
</languageCode>
<countryCode Sync="TRUE" value="USA">
</countryCode>
</mdLang>
<mdChar>
<CharSetCd value="004">
</CharSetCd>
</mdChar>
<mdHrLv>
<ScopeCd value="005">
</ScopeCd>
</mdHrLv>
<mdContact>
<rpOrgName>National Park Service Inventory and Monitoring Division</rpOrgName>
<rpCntInfo>
<cntPhone>
<voiceNum>970-225-3550</voiceNum>
</cntPhone>
<cntAddress addressType="postal">
<delPoint>1201 Oakridge Drive, Suite 150</delPoint>
<city>Fort Collins</city>
<adminArea>CO</adminArea>
<postCode>80525</postCode>
<country>US</country>
<eMailAdd>irma@nps.gov</eMailAdd>
</cntAddress>
</rpCntInfo>
<role>
<RoleCd value="007">
</RoleCd>
</role>
</mdContact>
<mdDateSt>20210929</mdDateSt>
<mdStanName>ArcGIS Metadata</mdStanName>
<mdStanVer>1.0</mdStanVer>
<distInfo>
<distributor>
<distorCont>
<rpOrgName>National Park Service Inventory and Monitoring Division</rpOrgName>
<rpCntInfo>
<cntPhone>
<voiceNum>970-225-3550</voiceNum>
</cntPhone>
<cntAddress addressType="postal">
<delPoint>1201 Oakridge Drive, Suite 150</delPoint>
<city>Fort Collins</city>
<adminArea>CO</adminArea>
<postCode>80525</postCode>
<country>US</country>
<eMailAdd>irma@nps.gov</eMailAdd>
</cntAddress>
</rpCntInfo>
<role>
<RoleCd value="005">
</RoleCd>
</role>
</distorCont>
</distributor>
<distTranOps>
<onLineSrc>
<linkage>https://irma.nps.gov/DataStore/Reference/Profile/2287343</linkage>
</onLineSrc>
</distTranOps>
<distFormat>
<formatName Sync="TRUE">Raster Dataset</formatName>
</distFormat>
</distInfo>
<dataIdInfo>
<idCitation>
<resTitle>CCAP 2005 Land Cover for Saipan for use in the Inventory and Monitoring Division</resTitle>
<date>
<pubDate>2021-09-29</pubDate>
</date>
<citRespParty>
<rpOrgName>National Park Service Inventory and Monitoring Division</rpOrgName>
<role>
<RoleCd value="006">
</RoleCd>
</role>
</citRespParty>
<presForm>
<fgdcGeoform>GeoTIFF-format raster dataset</fgdcGeoform>
<PresFormCd Sync="TRUE" value="005">
</PresFormCd>
</presForm>
</idCitation>
<idAbs>&lt;a href='https://irma.nps.gov/DataStore/Reference/Profile/2287343'&gt;CCAP 2005 land cover for the island of Saipan&lt;/a&gt; is derived from the source CCAP 2005 dataset. For authoritative documentation see &lt;a href='https://irma.nps.gov/DataStore/Reference/Profile/2284967'&gt;this NPS Data Store record&lt;/a&gt;. See the &lt;a href = 'https://irma.nps.gov/DataStore/Reference/Profile/2244060'&gt;NPS Environmental Settings protocol&lt;/a&gt; for more information.</idAbs>
<idPurp>Landscape dynamics land cover source for the NPS Inventory and Monitoring national Environmental Settings protocol.</idPurp>
<idCredit>NPS Inventory and Monitoring Division</idCredit>
<idStatus>
<ProgCd value="001">
</ProgCd>
</idStatus>
<idPoC>
<rpOrgName>National Park Service Inventory and Monitoring Division</rpOrgName>
<rpCntInfo>
<cntPhone>
<voiceNum>970-225-3550</voiceNum>
</cntPhone>
<cntAddress addressType="postal">
<delPoint>1201 Oakridge Drive, Suite 150</delPoint>
<city>Fort Collins</city>
<adminArea>CO</adminArea>
<postCode>80525</postCode>
<country>US</country>
<eMailAdd>irma@nps.gov</eMailAdd>
</cntAddress>
</rpCntInfo>
<role>
<RoleCd value="007">
</RoleCd>
</role>
</idPoC>
<resMaint>
<maintFreq>
<MaintFreqCd value="012">
</MaintFreqCd>
</maintFreq>
</resMaint>
<placeKeys>
<keyword>Saipan</keyword>
<keyword>CNMI</keyword>
<keyword>Coastal Zone</keyword>
</placeKeys>
<themeKeys>
<keyword>imageryBaseMapsEarthCover</keyword>
<thesaName>
<resTitle>ISO 19115 Topic Category</resTitle>
</thesaName>
</themeKeys>
<themeKeys>
<keyword>Remotely Sensed Imagery/Photos</keyword>
<keyword>Land Cover Analysis</keyword>
<keyword>Land Cover</keyword>
</themeKeys>
<searchKeys>
<keyword>Remotely Sensed Imagery/Photos</keyword>
<keyword>imageryBaseMapsEarthCover</keyword>
<keyword>Saipan</keyword>
<keyword>CNMI</keyword>
<keyword>Land Cover Analysis</keyword>
<keyword>Coastal Zone</keyword>
<keyword>Land Cover</keyword>
</searchKeys>
<resConst>
<LegConsts>
<useLimit>The National Park Service (NPS) shall not be held liable for improper or incorrect use of the data described and/or contained herein. These data and related graphics, if available, are not legal documents and are not intended to be used as such. These data are not of survey quality and not intended to be used for survey purposes. The information contained in these data is dynamic and may change over time. The data are not better than the original sources from which they were derived. It is the responsibility of the data user to use the data appropriately and consistent within the limitations of geospatial data in general and these data in particular. The related graphics are intended to aid the data user in acquiring relevant data; it is not appropriate to use the related graphics as data. The NPS gives no warranty, expressed or implied, as to the accuracy, reliability, or completeness of these data. It is strongly recommended that these data be directly acquired from an NPS source and not indirectly through other sources, which may have changed the data in some way. Although these data have been processed successfully on a computer system at the NPS, no warranty expressed or implied is made regarding the utility of the data on another system or for general or scientific purposes, nor shall the act of distribution constitute any such warranty. This disclaimer applies both to individual use of the data and aggregate use with other data.</useLimit>
</LegConsts>
</resConst>
<resConst>
<Consts>
<useLimit>Data set is not for use in litigation. While efforts have been made to ensure that these data are accurate and reliable within the state of the art, NOAA, cannot assume liability for any damages, or misrepresentations, caused by any inaccuracies in the data, or as a result of the data to be used on a particular system. NOAA makes no warranty, expressed or implied, nor does the fact of distribution constitute such a warranty.</useLimit>
</Consts>
</resConst>
<aggrInfo>
<aggrDSName>
<resTitle>NPS Park Environmental Settings monitoring protocol</resTitle>
<date>
<pubDate>2018-01-01</pubDate>
</date>
<citRespParty>
<rpOrgName>National Park Service Natural Resource Inventory and Monitoring Division</rpOrgName>
<role>
<RoleCd value="006">
</RoleCd>
</role>
</citRespParty>
<citOnlineRes>
<linkage>https://irma.nps.gov/DataStore/Reference/Profile/2244060</linkage>
</citOnlineRes>
</aggrDSName>
<assocType>
<AscTypeCd value="001">
</AscTypeCd>
</assocType>
</aggrInfo>
<dataLang>
<languageCode value="eng">
</languageCode>
<countryCode Sync="TRUE" value="USA">
</countryCode>
</dataLang>
<tpCat>
<TopicCatCd value="010">
</TopicCatCd>
</tpCat>
<envirDesc>Version 6.2 (Build 9200) ; Esri ArcGIS 10.6.1.9270</envirDesc>
<dataExt>
<geoEle>
<GeoBndBox>
<westBL>145.688041</westBL>
<eastBL>145.831969</eastBL>
<southBL>15.091068</southBL>
<northBL>15.290653</northBL>
</GeoBndBox>
</geoEle>
</dataExt>
<dataExt>
<exDesc>Acquisition date of the Quickbird Scene</exDesc>
<tempEle>
<TempExtent>
<exTemp>
<TM_Instant>
<tmPosition>2005-01-01</tmPosition>
</TM_Instant>
</exTemp>
</TempExtent>
</tempEle>
<geoEle>
</geoEle>
</dataExt>
<spatRpType>
<SpatRepTypCd Sync="TRUE" value="002">
</SpatRepTypCd>
</spatRpType>
<dataExt>
<geoEle>
<GeoBndBox esriExtentType="search">
<exTypeCode Sync="TRUE">1</exTypeCode>
<westBL Sync="TRUE">145.688334</westBL>
<eastBL Sync="TRUE">145.832306</eastBL>
<northBL Sync="TRUE">15.290679</northBL>
<southBL Sync="TRUE">15.091051</southBL>
</GeoBndBox>
</geoEle>
</dataExt>
</dataIdInfo>
<dqInfo>
<dqScope>
<scpLvl>
<ScopeCd value="005">
</ScopeCd>
</scpLvl>
</dqScope>
<report type="DQConcConsis">
<measDesc>Tests for logical consistency indicate that all row and column positions in the selected latitude/longitude window contain data. Conversion and integration with vector files indicates that all positions are consistent with earth coordinates covering the same area. Attribute files are logically consistent.</measDesc>
</report>
<report type="DQCompOm">
<measDesc>Data does not exist for all classes. There are no pixels representing class 9 (Deciduous Forest), 11 (Mixed Forest), 24 (Tundra), 25 (Perennial Ice/Snow), 26 (Dwarf Scrub - Alaska specific class), 27 (Sedge/Herbaceous), and 28 (Moss - Alaska specific). Developed classes have been altered to exclude the percentage breakdown of impervious surfaces as the breakdown is not appropriate for high resolution mapping (Developed High Intensity (2), Developed Medium Intensity (3), and Developed Low Intensity (4) are reduced to Impervious (Class 2)).</measDesc>
</report>
<report type="DQQuanAttAcc">
<measDesc>Attribute accuracy report does not exist</measDesc>
<evalMethDesc>None</evalMethDesc>
<measResult>
<QuanResult>
<quanVal>Unknown</quanVal>
</QuanResult>
</measResult>
</report>
<report dimension="horizontal" type="DQAbsExtPosAcc">
<measDesc>12 meters CE90</measDesc>
</report>
<report dimension="vertical" type="DQAbsExtPosAcc">
<measDesc>There was no terrain correction in the geo-referencing procedure.</measDesc>
</report>
<dataLineage>
<prcStep>
<stepDesc>NPS IMD Land Cover Process Step: Source rasters from https://coast.noaa.gov/digitalcoast/ is reclassified to modified Anderson Level 2 to remove unclassified or No Data raster cells. In some raster datasets, the NoData value is 128. In some cases the source raster is projected to the local spatial reference respective to the geographic area of interest: Saipan = WGS_1984_UTM_Zone_55N (World Geodetic System) 1984)), Well Known ID (WKID: 32655) Standard Operating Procedure: Processing Land Cover Source Data to Derive Landscape Dynamics Metrics: Anderson Level 1 and 2 Classification, and Natural vs. Converted Land Use. Available at https://irma.nps.gov/DataStore/Reference/Profile/2244308 Data Release Report: Source data processing for the National Land Cover Dataset and the Coastal Change Analysis Program for use with Landscape Dynamics in the Environmental Settings Protocol. Available at https://irma.nps.gov/DataStore/Reference/Profile/2284967</stepDesc>
<stepDateTm>2021-01-01</stepDateTm>
<stepSrc type="used">
<srcCitatn>
<resAltTitle>NOAA Office for Coastal Management High-Resolution Land Cover Project</resAltTitle>
</srcCitatn>
</stepSrc>
<stepSrc type="produced">
<srcCitatn>
<resAltTitle>CCAP 2005 Saipan Level 2 Classified Raster</resAltTitle>
</srcCitatn>
</stepSrc>
</prcStep>
<prcStep>
<stepDesc>This dataset was created by Sanborn (www.sanborn.com). This version of the classification is the High Resolution Land Cover (2005-era) for the Island of Saipan, CNMI. This section outlines the classification procedure for the Island of Saipan, CNMI High Resolution C-CAP. Quickbird imagery used in producing this land cover product was also utilized in producing an associated impervious surfaces layer for the island. The mapping approach utilized a boundary summary and refinement procedure developed by Sanborn to leverage previous United States Forest Service mapping efforts to create the high resolution land cover data set. A calibration visit was conducted and training data was collected for classification. Non impervious features were mapped using a 0.5 acre minimum mapping unit (MMU). Pre-processing steps: The Quickbird mosaic utilized for this project was provided from Digital Globe as an orthorectifed, georeferenced product and was consistent with the quoted 1:12000 spatial accuracy. In conjunction with the Quickbird mosaic, Sanborn used LiDAR collected in 2007 for the island. Field-Collected Data: Training data was collected in the field between March 14th and 27th, 2008. Land cover observations were recorded by analysts. The referenced dataset went through a QA/QC procedure to ensure it met accuracy standards. Classification: Segmentation - Image segmentation was completed at multiple scales using the multispectral (2.4 m) imagery in order to group like spectral and textural objects within the imagery. For consistency, the associated impervious data set was incorporated into the segmentation layer as a boundary delimiter. Segments can share boundaries of an impervious surface, but can never overlap an impervious surface. Automated Classification, Image segments are classified using a decision tree classifier in See5 software and an iterative nearest neighbor classifier in Definiens software. Nearest neighbor training data is collected through analyst interpretation or ancillary data sets and used to calibrate the classification algorithm. Automated Classification Refinement - Models are built to refine or reclassify land cover areas by utilizing the wealth of attribute information linked to each segment within Definiens. Classification Edits - As with any automated or semi-automated land cover classification there are often inconsistencies in the land cover map. The final step before map finalization was to remove inaccuracies through manual segment labeling as interpreted by an analyst. Map Finalization - Sanborn used independent reviewer's comments to further refine the land cover map. Attributes for this product are as follows: 0 Background 1 Unclassified 2 Impervious 3 4 5 Developed, Open Space 6 Cultivated Crops 7 Pasture/Hay 8 Grassland/Herbaceous 9 Deciduous Forest 10 Evergreen Forest 11 Mixed Forest 12 Scrub/Shrub 13 Palustrine Forested Wetland 14 Palustrine Scrub/Shrub Wetland 15 Palustrine Emergent Wetland 16 Estuarine Forested Wetland 17 Estuarine Scrub/Shrub Wetland 18 Estuarine Emergent Wetland 19 Unconsolidated Shore 20 Bare Land 21 Open Water 22 Palustrine Acquatic Bed</stepDesc>
<stepDateTm>2008-08-21</stepDateTm>
<stepSrc type="used">
<srcCitatn>
<resAltTitle>unknown</resAltTitle>
</srcCitatn>
</stepSrc>
<stepSrc type="produced">
<srcCitatn>
<resAltTitle>unknown</resAltTitle>
</srcCitatn>
</stepSrc>
</prcStep>
</dataLineage>
</dqInfo>
<spatRepInfo>
<Georect>
<numDims>2</numDims>
<axisDimension type="001">
<dimSize>9166</dimSize>
<dimResol>
<value Sync="TRUE" uom="m">2.400000</value>
</dimResol>
</axisDimension>
<axisDimension type="002">
<dimSize>6393</dimSize>
<dimResol>
<value Sync="TRUE" uom="m">2.400000</value>
</dimResol>
</axisDimension>
<axisDimension type="003">
<dimSize>1</dimSize>
</axisDimension>
<cellGeo>
<CellGeoCd Sync="TRUE" value="002">
</CellGeoCd>
</cellGeo>
<tranParaAv Sync="TRUE">1</tranParaAv>
<chkPtAv Sync="TRUE">0</chkPtAv>
<cornerPts>
<pos Sync="TRUE">359167.200000 1668816.000000</pos>
</cornerPts>
<cornerPts>
<pos Sync="TRUE">359167.200000 1690814.400000</pos>
</cornerPts>
<cornerPts>
<pos Sync="TRUE">374510.400000 1690814.400000</pos>
</cornerPts>
<cornerPts>
<pos Sync="TRUE">374510.400000 1668816.000000</pos>
</cornerPts>
<centerPt>
<pos Sync="TRUE">366838.800000 1679815.200000</pos>
</centerPt>
<ptInPixel>
<PixOrientCd Sync="TRUE" value="001">
</PixOrientCd>
</ptInPixel>
</Georect>
</spatRepInfo>
<eainfo>
<detailed Name="NPS_IMD_Landcover_Saipan_CCAP2005.tif.vat">
<enttyp>
<enttypl>NPS_IMD_Landcover_Saipan_CCAP2005.tif</enttypl>
<enttypd>CCAP Land Cover Layer</enttypd>
<enttypds>unknown</enttypds>
<enttypt Sync="TRUE">Table</enttypt>
<enttypc Sync="TRUE">15</enttypc>
</enttyp>
<attr>
<attrlabl>Value</attrlabl>
<attrdef>Landcover Classification as determined by NOAA Coastal Change Analysis Program (C-CAP).</attrdef>
<attrdefs>NOAA Office for Coastal Management High-Resolution Land Cover Project</attrdefs>
<attrdomv>
<edom>
<edomv>16</edomv>
<edomvd>Estuarine Forested Wetland - Includes all tidal wetlands dominated by woody vegetation greater than or equal to 5 meters in height, and all such wetlands that occur in tidal areas in which salinity due to ocean-derived salts is above 0.5 parts per thousand (ppt).</edomvd>
<edomvds>Dobson, J. et al, NOAA Coastal Change Analysis Program (C-CAP): Guidance for Regional Implementation, NOAA Technical Report NMFS 123, U.S. Department of Commerce, April 1995.</edomvds>
</edom>
<edom>
<edomv>14</edomv>
<edomvd>Palustrine Scrub/Shrub Wetland - Includes all non-tidal wetlands dominated by woody vegetation less than or equal to 5 meters in height, and all such wetlands that occur in tidal areas in which salinity due to ocean-derived salts is below 0.5 ppt.</edomvd>
<edomvds>Dobson, J. et al, NOAA Coastal Change Analysis Program (C-CAP): Guidance for Regional Implementation, NOAA Technical Report NMFS 123, U.S. Department of Commerce, April 1995.</edomvds>
</edom>
<edom>
<edomv>20</edomv>
<edomvd>Bare Land - Composed of bare soil, rock, sand, silt, gravel, or other earthen material with little or no vegetation.</edomvd>
<edomvds>Dobson, J. et al, NOAA Coastal Change Analysis Program (C-CAP): Guidance for Regional Implementation, NOAA Technical Report NMFS 123, U.S. Department of Commerce, April 1995.</edomvds>
</edom>
<edom>
<edomv>13</edomv>
<edomvd>Palustrine Forested Wetland - Includes all non-tidal wetlands dominated by woody vegetation greater than or equal to 5 meters in height, and all such wetlands that occur in tidal areas in which salinity due to ocean-derived salts is below 0.5 parts per thousand (ppt).</edomvd>
<edomvds>Dobson, J. et al, NOAA Coastal Change Analysis Program (C-CAP): Guidance for Regional Implementation, NOAA Technical Report NMFS 123, U.S. Department of Commerce, April 1995.</edomvds>
</edom>
<edom>
<edomv>7</edomv>
<edomvd>Pasture/Hay - characterized by grasses, legumes or grass-legumes mixtures planted for livestock grazing or the production of sees or hay crops.</edomvd>
<edomvds>NLCD 2001 Land Cover Class Definitions, 2004 http://www.mrlc.gov/nlcd_definitions.asp</edomvds>
</edom>
<edom>
<edomv>22</edomv>
<edomvd>Palustrine Aquatic Bed - Includes wetlands and deepwater habitats dominated by plants that grow principally on or below the surface of the water for most of the growing season in most years.</edomvd>
<edomvds>Dobson, J. et al, NOAA Coastal Change Analysis Program (C-CAP): Guidance for Regional Implementation, NOAA Technical Report NMFS 123, U.S. Department of Commerce, April 1995.</edomvds>
</edom>
<edom>
<edomv>18</edomv>
<edomvd>Estuarine Emergent Wetland - Characterized by erect, rooted, herbaceous hydrophytes (excluding mosses and lichens) that are present for most of the growing season in most years. Perennial plants usually dominate these wetlands. All water regimes are included except those that are sub-tidal and irregularly exposed.</edomvd>
<edomvds>Dobson, J. et al, NOAA Coastal Change Analysis Program (C-CAP): Guidance for Regional Implementation, NOAA Technical Report NMFS 123, U.S. Department of Commerce, April 1995.</edomvds>
</edom>
<edom>
<edomv>21</edomv>
<edomvd>Open Water - Includes all areas of open water with less than 30 percent cover of trees, shrubs, persistent emergent plants, emergent mosses, or lichens.</edomvd>
<edomvds>Dobson, J. et al, NOAA Coastal Change Analysis Program (C-CAP): Guidance for Regional Implementation, NOAA Technical Report NMFS 123, U.S. Department of Commerce, April 1995.</edomvds>
</edom>
<edom>
<edomv>2</edomv>
<edomvd>Impervious Surface - Anthropogenic features such as buildings, parking lots and roads developed from asphalt, concrete or other constructed surfaces which do not allow infiltration from precipitation.</edomvd>
<edomvds>NOAA Office for Coastal Management High-Resolution Land Cover Project.</edomvds>
</edom>
<edom>
<edomv>17</edomv>
<edomvd>Estuarine Scrub/Shrub Wetland - Includes all tidal wetlands dominated by woody vegetation less than 5 meters in height, and all such wetlands that occur in tidal areas in which salinity due to ocean-derived salts is above 0.5 ppt.</edomvd>
<edomvds>Dobson, J. et al, NOAA Coastal Change Analysis Program (C-CAP): Guidance for Regional Implementation, NOAA Technical Report NMFS 123, U.S. Department of Commerce, April 1995.</edomvds>
</edom>
<edom>
<edomv>12</edomv>
<edomvd>Scrub/Shrub - Areas dominated by woody vegetation less than 5 meters in height. This class includes true shrubs, young trees, and trees or shrubs that are small or stunted because of environmental conditions.</edomvd>
<edomvds>Dobson, J. et al, NOAA Coastal Change Analysis Program (C-CAP): Guidance for Regional Implementation, NOAA Technical Report NMFS 123, U.S. Department of Commerce, April 1995.</edomvds>
</edom>
<edom>
<edomv>15</edomv>
<edomvd>Palustrine Emergent Wetland - Includes all non-tidal wetlands dominated by trees, shrubs, persistent emergents, emergent mosses, or lichens, and all such wetlands that occur in tidal areas in which salinity due to ocean- derived salts is below 0.5 ppt.</edomvd>
