{
"currentVersion": 11.5,
"serviceDescription": "C-CAP 2010 land cover for the islands of Puerto Rico<\/a> (PR) and is derived from the source C-CAP 2010 dataset. For authoritative documentation see this NPS Data Store record<\/a>. See the NPS Environmental Settings protocol<\/a> for more information.",
"name": "LandscapeDynamics/NPS_IMD_Landcover_PuertoRico_Level2_CCAP2010",
"description": "C-CAP 2010 land cover for the islands of Puerto Rico<\/a> (PR) and is derived from the source C-CAP 2010 dataset. For authoritative documentation see this NPS Data Store record<\/a>. See the NPS Environmental Settings protocol<\/a> for more information.",
"extent": {
"xmin": 3097059.999999999,
"ymin": -74821.99999999814,
"xmax": 3333655.999999999,
"ymax": 45178.00000000186,
"spatialReference": {
"wkid": 102039,
"latestWkid": 102039
}
},
"initialExtent": {
"xmin": 3097059.999999999,
"ymin": -74821.99999999814,
"xmax": 3333655.999999999,
"ymax": 45178.00000000186,
"spatialReference": {
"wkid": 102039,
"latestWkid": 102039
}
},
"fullExtent": {
"xmin": 3097059.999999999,
"ymin": -74821.99999999814,
"xmax": 3333655.999999999,
"ymax": 45178.00000000186,
"spatialReference": {
"wkid": 102039,
"latestWkid": 102039
}
},
"sortableFields": "",
"bandCount": 1,
"pixelType": "S8",
"minValues": [
2
],
"maxValues": [
23
],
"meanValues": [
10.357589497937
],
"stdvValues": [
4.0935037514641
],
"serviceProperties": "Center<\/MosaicMethod>First<\/MosaicOperator>true<\/SortAscending><\/LockImageID><\/TileOrderField>0<\/TileOrderBase>0.000000<\/AvgImageSpacingX>0.000000<\/AvgImageSpacingY>0.0<\/ViewPointX>0.0<\/ViewPointY>0.0<\/ViewPointDefShiftX>0.0<\/ViewPointDefShiftY>None<\/CompressionMethod>75<\/CompressionQuality>0.010000<\/CompressionTolerance>Bilinear<\/SamplingMethod><\/ImageServiceProperties><\/ImageServer>",
"allowedFields": "",
"hasMultidimensions": false,
"pixelSizeX": 2,
"pixelSizeY": 2,
"meanPixelSize": 2,
"datasetFormat": "TIFF",
"uncompressedSize": 7097880000,
"blockWidth": 128,
"blockHeight": 128,
"compressionType": "LZW",
"bandNames": [
"Band_1"
],
"allowCopy": true,
"allowAnalysis": true,
"itemAccess": false,
"inspectionCapabilities": "",
"noDataValue": -128,
"noDataValues": [
-128
],
"minPixelSize": 0,
"maxPixelSize": 0,
"copyrightText": "NPS Inventory and Monitoring Division",
"serviceDataType": "esriImageServiceDataTypeGeneric",
"serviceSourceType": "esriImageServiceSourceTypeDataset",
"objectIdField": "",
"fields": [],
"capabilities": "Image,Metadata,Mensuration",
"defaultMosaicMethod": "Center",
"allowedMosaicMethods": "",
"sortField": "",
"sortValue": null,
"sortAscending": true,
"mosaicOperator": "First",
"defaultCompressionQuality": 75,
"defaultResamplingMethod": "Bilinear",
"maxImageHeight": 4100,
"maxImageWidth": 15000,
"allowRasterFunction": true,
"rasterFunctionInfos": [
{
"name": "None",
"description": "",
"help": ""
}
],
"rasterTypeInfos": [
{
"name": "Raster Dataset",
"description": "Supports all ArcGIS Raster Datasets",
"help": ""
}
],
"mensurationCapabilities": "Basic",
"hasHistograms": true,
"hasColormap": false,
"hasRasterAttributeTable": true,
"minScale": 0,
"maxScale": 0,
"exportTilesAllowed": false,
"supportsStatistics": false,
"supportsAdvancedQueries": false,
"editFieldsInfo": null,
"ownershipBasedAccessControlForRasters": null,
"allowComputeTiePoints": false,
"useStandardizedQueries": true,
"advancedQueryCapabilities": {
"useStandardizedQueries": true,
"supportsStatistics": false,
"supportsOrderBy": false,
"supportsDistinct": false,
"supportsPagination": false
},
"spatialReference": {
"wkid": 102039,
"latestWkid": 102039
}
}