{
"currentVersion": 11.5,
"serviceDescription": "C-CAP 2011 natural versus converted land cover for the island of Oahu<\/a> and is derived from the Oahu C-CAP 2011 level 2 land cover dataset.For authoritative documentation see this NPS Data Store record<\/a>. See the NPS Environmental Settings protocol<\/a> for more information.",
"name": "LandscapeDynamics/NPS_IMD_Landcover_Hawaii_Oahu_NaturalConverted_CCAP2011",
"description": "C-CAP 2011 natural versus converted land cover for the island of Oahu<\/a> and is derived from the Oahu C-CAP 2011 level 2 land cover dataset.For authoritative documentation see this NPS Data Store record<\/a>. See the NPS Environmental Settings protocol<\/a> for more information.",
"extent": {
"xmin": -48798.169137785444,
"ymin": 2357165.7703737626,
"xmax": 19349.830862214527,
"ymax": 2410541.7703737626,
"spatialReference": {
"wkid": 32605,
"latestWkid": 32605
}
},
"initialExtent": {
"xmin": -48798.169137785444,
"ymin": 2357165.7703737626,
"xmax": 19349.830862214527,
"ymax": 2410541.7703737626,
"spatialReference": {
"wkid": 32605,
"latestWkid": 32605
}
},
"fullExtent": {
"xmin": -48798.169137785444,
"ymin": 2357165.7703737626,
"xmax": 19349.830862214527,
"ymax": 2410541.7703737626,
"spatialReference": {
"wkid": 32605,
"latestWkid": 32605
}
},
"sortableFields": "",
"bandCount": 1,
"pixelType": "U2",
"minValues": [
1
],
"maxValues": [
2
],
"meanValues": [
1.7729439004284
],
"stdvValues": [
0.41892914411974
],
"serviceProperties": "Center<\/MosaicMethod>First<\/MosaicOperator>true<\/SortAscending><\/LockImageID><\/TileOrderField>0<\/TileOrderBase>0.000000<\/AvgImageSpacingX>0.000000<\/AvgImageSpacingY>0.0<\/ViewPointX>0.0<\/ViewPointY>0.0<\/ViewPointDefShiftX>0.0<\/ViewPointDefShiftY>None<\/CompressionMethod>75<\/CompressionQuality>0.010000<\/CompressionTolerance>Bilinear<\/SamplingMethod><\/ImageServiceProperties><\/ImageServer>",
"allowedFields": "",
"hasMultidimensions": false,
"pixelSizeX": 2.399999999999999,
"pixelSizeY": 2.4,
"meanPixelSize": 2.3999999999999995,
"datasetFormat": "TIFF",
"uncompressedSize": 157876200,
"blockWidth": 128,
"blockHeight": 128,
"compressionType": "LZW",
"bandNames": [
"Band_1"
],
"allowCopy": true,
"allowAnalysis": true,
"itemAccess": false,
"inspectionCapabilities": "",
"noDataValue": 3,
"noDataValues": [
3
],
"minPixelSize": 0,
"maxPixelSize": 0,
"copyrightText": "NPS Inventory and Monitoring Division",
"serviceDataType": "esriImageServiceDataTypeGeneric",
"serviceSourceType": "esriImageServiceSourceTypeDataset",
"objectIdField": "",
"fields": [],
"capabilities": "Image,Metadata,Mensuration",
"defaultMosaicMethod": "Center",
"allowedMosaicMethods": "",
"sortField": "",
"sortValue": null,
"sortAscending": true,
"mosaicOperator": "First",
"defaultCompressionQuality": 75,
"defaultResamplingMethod": "Bilinear",
"maxImageHeight": 4100,
"maxImageWidth": 15000,
"allowRasterFunction": true,
"rasterFunctionInfos": [
{
"name": "None",
"description": "",
"help": ""
}
],
"rasterTypeInfos": [
{
"name": "Raster Dataset",
"description": "Supports all ArcGIS Raster Datasets",
"help": ""
}
],
"mensurationCapabilities": "Basic",
"hasHistograms": true,
"hasColormap": false,
"hasRasterAttributeTable": true,
"minScale": 0,
"maxScale": 0,
"exportTilesAllowed": false,
"supportsStatistics": false,
"supportsAdvancedQueries": false,
"editFieldsInfo": null,
"ownershipBasedAccessControlForRasters": null,
"allowComputeTiePoints": false,
"useStandardizedQueries": true,
"advancedQueryCapabilities": {
"useStandardizedQueries": true,
"supportsStatistics": false,
"supportsOrderBy": false,
"supportsDistinct": false,
"supportsPagination": false
},
"spatialReference": {
"wkid": 32605,
"latestWkid": 32605
}
}