{
"currentVersion": 11.5,
"serviceDescription": "C-CAP 2010 land cover for the islands that make up American Samoa<\/a> (East Manua, West Manua, Tutuila) and is derived from the source CCAP 2010 dataset. This dataset has been mosaicked from the three source datasets for each island. For authoritative documentation see this NPS Data Store record<\/a>. See the NPS Environmental Settings protocol<\/a> for more information.",
"name": "LandscapeDynamics/NPS_IMD_Landcover_AmericanSamoa_Level2_CCAP2010",
"description": "C-CAP 2010 land cover for the islands that make up American Samoa<\/a> (East Manua, West Manua, Tutuila) and is derived from the source CCAP 2010 dataset. This dataset has been mosaicked from the three source datasets for each island. For authoritative documentation see this NPS Data Store record<\/a>. See the NPS Environmental Settings protocol<\/a> for more information.",
"extent": {
"xmin": 516303.00006341137,
"ymin": 8410657.229563316,
"xmax": 671635.8000633984,
"ymax": 8434854.029563315,
"spatialReference": {
"wkid": 32702,
"latestWkid": 32702
}
},
"initialExtent": {
"xmin": 516303.00006341137,
"ymin": 8410657.229563316,
"xmax": 671635.8000633984,
"ymax": 8434854.029563315,
"spatialReference": {
"wkid": 32702,
"latestWkid": 32702
}
},
"fullExtent": {
"xmin": 516303.00006341137,
"ymin": 8410657.229563316,
"xmax": 671635.8000633984,
"ymax": 8434854.029563315,
"spatialReference": {
"wkid": 32702,
"latestWkid": 32702
}
},
"sortableFields": "",
"bandCount": 1,
"pixelType": "U8",
"minValues": [
2
],
"maxValues": [
21
],
"meanValues": [
11.653413399621
],
"stdvValues": [
4.8862452132547
],
"serviceProperties": "Center<\/MosaicMethod>First<\/MosaicOperator>true<\/SortAscending><\/LockImageID><\/TileOrderField>0<\/TileOrderBase>0.000000<\/AvgImageSpacingX>0.000000<\/AvgImageSpacingY>0.0<\/ViewPointX>0.0<\/ViewPointY>0.0<\/ViewPointDefShiftX>0.0<\/ViewPointDefShiftY>None<\/CompressionMethod>75<\/CompressionQuality>0.010000<\/CompressionTolerance>Bilinear<\/SamplingMethod><\/ImageServiceProperties><\/ImageServer>",
"allowedFields": "",
"hasMultidimensions": false,
"pixelSizeX": 2.3999999999998,
"pixelSizeY": 2.3999999999998893,
"meanPixelSize": 2.399999999999845,
"datasetFormat": "TIFF",
"uncompressedSize": 652527204,
"blockWidth": 128,
"blockHeight": 128,
"compressionType": "LZW",
"bandNames": [
"Band_1"
],
"allowCopy": true,
"allowAnalysis": true,
"itemAccess": false,
"inspectionCapabilities": "",
"noDataValue": 127,
"noDataValues": [
127
],
"minPixelSize": 0,
"maxPixelSize": 0,
"copyrightText": "NPS Inventory and Monitoring Division",
"serviceDataType": "esriImageServiceDataTypeThematic",
"serviceSourceType": "esriImageServiceSourceTypeDataset",
"objectIdField": "",
"fields": [],
"capabilities": "Image,Metadata,Mensuration",
"defaultMosaicMethod": "Center",
"allowedMosaicMethods": "",
"sortField": "",
"sortValue": null,
"sortAscending": true,
"mosaicOperator": "First",
"defaultCompressionQuality": 75,
"defaultResamplingMethod": "Bilinear",
"maxImageHeight": 4100,
"maxImageWidth": 15000,
"allowRasterFunction": true,
"rasterFunctionInfos": [
{
"name": "None",
"description": "",
"help": ""
}
],
"rasterTypeInfos": [
{
"name": "Raster Dataset",
"description": "Supports all ArcGIS Raster Datasets",
"help": ""
}
],
"mensurationCapabilities": "Basic",
"hasHistograms": true,
"hasColormap": false,
"hasRasterAttributeTable": true,
"minScale": 0,
"maxScale": 0,
"exportTilesAllowed": false,
"supportsStatistics": false,
"supportsAdvancedQueries": false,
"editFieldsInfo": null,
"ownershipBasedAccessControlForRasters": null,
"allowComputeTiePoints": false,
"useStandardizedQueries": true,
"advancedQueryCapabilities": {
"useStandardizedQueries": true,
"supportsStatistics": false,
"supportsOrderBy": false,
"supportsDistinct": false,
"supportsPagination": false
},
"spatialReference": {
"wkid": 32702,
"latestWkid": 32702
}
}