<?xml version="1.0" encoding="UTF-8" standalone="no"?>
<metadata xml:lang="en">
<Esri>
<CreaDate>20210913</CreaDate>
<CreaTime>13315600</CreaTime>
<ArcGISFormat>1.0</ArcGISFormat>
<ArcGISstyle>FGDC CSDGM Metadata</ArcGISstyle>
<SyncOnce>FALSE</SyncOnce>
<DataProperties>
<itemProps>
<itemName Sync="TRUE">NPS_IMD_Landcover_Alaska_NaturalConverted_NLCD2011v16.tif</itemName>
<nativeExtBox>
<westBL Sync="TRUE">-2232344.073754</westBL>
<eastBL Sync="TRUE">1494765.926246</eastBL>
<southBL Sync="TRUE">344775.066318</southBL>
<northBL Sync="TRUE">2380125.066318</northBL>
<exTypeCode Sync="TRUE">1</exTypeCode>
</nativeExtBox>
<imsContentType Sync="TRUE">002</imsContentType>
</itemProps>
<coordRef>
<type Sync="TRUE">Projected</type>
<geogcsn Sync="TRUE">GCS_North_American_1983</geogcsn>
<csUnits Sync="TRUE">Linear Unit: Meter (1.000000)</csUnits>
<projcsn Sync="TRUE">NAD_1983_Alaska_Albers</projcsn>
<peXml Sync="TRUE">&lt;ProjectedCoordinateSystem xsi:type='typens:ProjectedCoordinateSystem' xmlns:xsi='http://www.w3.org/2001/XMLSchema-instance' xmlns:xs='http://www.w3.org/2001/XMLSchema' xmlns:typens='http://www.esri.com/schemas/ArcGIS/10.6'&gt;&lt;WKT&gt;PROJCS[&amp;quot;NAD_1983_Alaska_Albers&amp;quot;,GEOGCS[&amp;quot;GCS_North_American_1983&amp;quot;,DATUM[&amp;quot;D_North_American_1983&amp;quot;,SPHEROID[&amp;quot;GRS_1980&amp;quot;,6378137.0,298.257222101]],PRIMEM[&amp;quot;Greenwich&amp;quot;,0.0],UNIT[&amp;quot;Degree&amp;quot;,0.0174532925199433]],PROJECTION[&amp;quot;Albers&amp;quot;],PARAMETER[&amp;quot;False_Easting&amp;quot;,0.0],PARAMETER[&amp;quot;False_Northing&amp;quot;,0.0],PARAMETER[&amp;quot;Central_Meridian&amp;quot;,-154.0],PARAMETER[&amp;quot;Standard_Parallel_1&amp;quot;,55.0],PARAMETER[&amp;quot;Standard_Parallel_2&amp;quot;,65.0],PARAMETER[&amp;quot;Latitude_Of_Origin&amp;quot;,50.0],UNIT[&amp;quot;Meter&amp;quot;,1.0],AUTHORITY[&amp;quot;EPSG&amp;quot;,3338]]&lt;/WKT&gt;&lt;XOrigin&gt;-13752200&lt;/XOrigin&gt;&lt;YOrigin&gt;-8948200&lt;/YOrigin&gt;&lt;XYScale&gt;327482121.21482342&lt;/XYScale&gt;&lt;ZOrigin&gt;-100000&lt;/ZOrigin&gt;&lt;ZScale&gt;10000&lt;/ZScale&gt;&lt;MOrigin&gt;-100000&lt;/MOrigin&gt;&lt;MScale&gt;10000&lt;/MScale&gt;&lt;XYTolerance&gt;0.001&lt;/XYTolerance&gt;&lt;ZTolerance&gt;0.001&lt;/ZTolerance&gt;&lt;MTolerance&gt;0.001&lt;/MTolerance&gt;&lt;HighPrecision&gt;true&lt;/HighPrecision&gt;&lt;WKID&gt;102006&lt;/WKID&gt;&lt;LatestWKID&gt;3338&lt;/LatestWKID&gt;&lt;/ProjectedCoordinateSystem&gt;</peXml>
</coordRef>
<RasterProperties>
<General>
<PixelDepth Sync="TRUE">2</PixelDepth>
<HasColormap Sync="TRUE">FALSE</HasColormap>
<CompressionType Sync="TRUE">LZW</CompressionType>
<NumBands Sync="TRUE">1</NumBands>
<Format Sync="TRUE">TIFF</Format>
<HasPyramids Sync="TRUE">TRUE</HasPyramids>
<SourceType Sync="TRUE">continuous</SourceType>
<PixelType Sync="TRUE">unsigned integer</PixelType>
<NoDataValue Sync="TRUE">3</NoDataValue>
</General>
</RasterProperties>
</DataProperties>
<SyncDate>20210917</SyncDate>
<SyncTime>11541400</SyncTime>
<ModDate>20210917</ModDate>
<ModTime>11541400</ModTime>
</Esri>
<mdLang>
<languageCode value="eng">
</languageCode>
<countryCode Sync="TRUE" value="USA">
</countryCode>
</mdLang>
<mdChar>
<CharSetCd value="004">
</CharSetCd>
</mdChar>
<mdHrLv>
<ScopeCd value="005">
</ScopeCd>
</mdHrLv>
<mdContact>
<rpOrgName>National Park Service Inventory and Monitoring Division</rpOrgName>
<rpCntInfo>
<cntPhone>
<voiceNum>970-225-3550</voiceNum>
</cntPhone>
<cntAddress addressType="postal">
<delPoint>1201 Oakridge Drive, Suite 150</delPoint>
<city>Fort Collins</city>
<adminArea>CO</adminArea>
<postCode>80525</postCode>
<country>US</country>
<eMailAdd>irma@nps.gov</eMailAdd>
</cntAddress>
</rpCntInfo>
<role>
<RoleCd value="007">
</RoleCd>
</role>
</mdContact>
<mdDateSt>20210917</mdDateSt>
<mdStanName>ArcGIS Metadata</mdStanName>
<mdStanVer>1.0</mdStanVer>
<distInfo>
<distributor>
<distorCont>
<rpOrgName>National Park Service Inventory and Monitoring Division</rpOrgName>
<rpCntInfo>
<cntPhone>
<voiceNum>970-225-3550</voiceNum>
</cntPhone>
<cntAddress addressType="postal">
<delPoint>1201 Oakridge Drive, Suite 150</delPoint>
<city>Fort Collins</city>
<adminArea>CO</adminArea>
<postCode>80525</postCode>
<country>US</country>
<eMailAdd>irma@nps.gov</eMailAdd>
</cntAddress>
</rpCntInfo>
<role>
<RoleCd value="005">
</RoleCd>
</role>
</distorCont>
</distributor>
<distTranOps>
<onLineSrc>
<linkage>https://irma.nps.gov/DataStore/Reference/Profile/2287424</linkage>
</onLineSrc>
</distTranOps>
<distFormat>
<formatName Sync="TRUE">Raster Dataset</formatName>
</distFormat>
</distInfo>
<dataIdInfo>
<idCitation>
<resTitle>NLCD 2011 Land Cover Alaska for use in the Inventory and Monitoring Division</resTitle>
<date>
<pubDate>2021-09-17</pubDate>
</date>
<citRespParty>
<rpOrgName>National Park Service Inventory and Monitoring Division</rpOrgName>
<role>
<RoleCd value="006">
</RoleCd>
</role>
</citRespParty>
<presForm>
<fgdcGeoform>GeoTIFF-format raster dataset</fgdcGeoform>
<PresFormCd Sync="TRUE" value="005">
</PresFormCd>
</presForm>
</idCitation>
<idAbs>&lt;a href='https://irma.nps.gov/DataStore/Reference/Profile/2287424'&gt;NLCD 2011 natural versus converted land cover for Alaska&lt;/a&gt; and is derived from the Alaska NLCD 2011 level 2 land cover dataset. For authoritative documentation see &lt;a href='https://irma.nps.gov/DataStore/Reference/Profile/2284967'&gt;this NPS Data Store record&lt;/a&gt;. See the &lt;a href='https://irma.nps.gov/DataStore/Reference/Profile/2244060'&gt;NPS Environmental Settings protocol&lt;/a&gt; for more information.</idAbs>
<idPurp>Landscape dynamics land cover source for the NPS Inventory and Monitoring national Environmental Settings protocol.</idPurp>
<idCredit>NPS Inventory and Monitoring Division</idCredit>
<idStatus>
<ProgCd value="007">
</ProgCd>
</idStatus>
<idPoC>
<rpOrgName>National Park Service Inventory and Monitoring Division</rpOrgName>
<rpCntInfo>
<cntPhone>
<voiceNum>970-225-3550</voiceNum>
</cntPhone>
<cntAddress addressType="postal">
<delPoint>1201 Oakridge Drive, Suite 150</delPoint>
<city>Fort Collins</city>
<adminArea>CO</adminArea>
<postCode>80525</postCode>
<country>US</country>
<eMailAdd>irma@nps.gov</eMailAdd>
</cntAddress>
</rpCntInfo>
<role>
<RoleCd value="007">
</RoleCd>
</role>
</idPoC>
<resMaint>
</resMaint>
<placeKeys>
<keyword>Alaska</keyword>
<keyword>AK</keyword>
<thesaName>
<resTitle>U.S. Department of Commerce, 1987, Codes for the identification of the States, the District of Columbia and the outlying areas of the United States, and associated areas (Federal Information Processing Standard 5-2): Washington, D.C., National Institute of Standards and Technology</resTitle>
</thesaName>
</placeKeys>
<themeKeys>
<keyword>biota</keyword>
<thesaName>
<resTitle>ISO 19115 Topic Category</resTitle>
</thesaName>
</themeKeys>
<themeKeys>
<keyword>NGDA</keyword>
<keyword>Land Use Land Cover Theme</keyword>
<keyword>National Geospatial Data Asset</keyword>
<thesaName>
<resTitle>NGDA Portfolio Themes</resTitle>
</thesaName>
</themeKeys>
<themeKeys>
<keyword>Image processing</keyword>
<keyword>GIS</keyword>
<keyword>Land cover</keyword>
<keyword>digital spatial data</keyword>
<keyword>U.S. Geological Survey (USGS)</keyword>
</themeKeys>
<themeKeys>
<keyword>United States</keyword>
<keyword>U.S.</keyword>
<keyword>US</keyword>
<thesaName>
<resTitle>U.S. Department of Commerce, 1995, (Countries, dependencies, areas of special sovereignty, and their principal administrative divisions, Federal Information Processing Standard 10-4): Washington, D.C., National Institute of Standards and Technology</resTitle>
</thesaName>
</themeKeys>
<searchKeys>
<keyword>Alaska</keyword>
<keyword>Image processing</keyword>
<keyword>GIS</keyword>
<keyword>Land cover</keyword>
<keyword>biota</keyword>
<keyword>NGDA</keyword>
<keyword>digital spatial data</keyword>
<keyword>Land Use Land Cover Theme</keyword>
<keyword>United States</keyword>
<keyword>U.S.</keyword>
<keyword>US</keyword>
<keyword>AK</keyword>
<keyword>U.S. Geological Survey (USGS)</keyword>
<keyword>National Geospatial Data Asset</keyword>
</searchKeys>
<resConst>
<LegConsts>
<useLimit>The National Park Service (NPS) shall not be held liable for improper or incorrect use of the data described and/or contained herein. These data and related graphics, if available, are not legal documents and are not intended to be used as such. These data are not of survey quality and not intended to be used for survey purposes. The information contained in these data is dynamic and may change over time. The data are not better than the original sources from which they were derived. It is the responsibility of the data user to use the data appropriately and consistent within the limitations of geospatial data in general and these data in particular. The related graphics are intended to aid the data user in acquiring relevant data; it is not appropriate to use the related graphics as data. The NPS gives no warranty, expressed or implied, as to the accuracy, reliability, or completeness of these data. It is strongly recommended that these data be directly acquired from an NPS source and not indirectly through other sources, which may have changed the data in some way. Although these data have been processed successfully on a computer system at the NPS, no warranty expressed or implied is made regarding the utility of the data on another system or for general or scientific purposes, nor shall the act of distribution constitute any such warranty. This disclaimer applies both to individual use of the data and aggregate use with other data.</useLimit>
</LegConsts>
<Consts>
<useLimit/>
</Consts>
</resConst>
<aggrInfo>
<aggrDSName>
<resTitle>NPS Park Environmental Settings monitoring protocol</resTitle>
<date>
<pubDate>2018-01-01</pubDate>
</date>
<citRespParty>
<rpOrgName>National Park Service Natural Resource Inventory and Monitoring Division</rpOrgName>
<role>
<RoleCd value="006">
</RoleCd>
</role>
</citRespParty>
<citOnlineRes>
<linkage>https://irma.nps.gov/DataStore/Reference/Profile/2244060</linkage>
</citOnlineRes>
</aggrDSName>
<assocType>
<AscTypeCd value="001">
</AscTypeCd>
</assocType>
</aggrInfo>
<dataLang>
<languageCode value="eng">
</languageCode>
<countryCode Sync="TRUE" value="USA">
</countryCode>
</dataLang>
<tpCat>
<TopicCatCd value="002">
</TopicCatCd>
</tpCat>
<envirDesc>Version 6.2 (Build 9200) ; Esri ArcGIS 10.6.1.9270</envirDesc>
<dataExt>
<geoEle>
<GeoBndBox>
<westBL>-167</westBL>
<eastBL>-122</eastBL>
<southBL>40</southBL>
<northBL>77</northBL>
</GeoBndBox>
</geoEle>
</dataExt>
<dataExt>
<exDesc>ground condition</exDesc>
<tempEle>
<TempExtent>
<exTemp>
<TM_Instant>
<tmPosition>2011-01-01</tmPosition>
</TM_Instant>
</exTemp>
</TempExtent>
</tempEle>
<geoEle>
</geoEle>
</dataExt>
<spatRpType>
<SpatRepTypCd Sync="TRUE" value="002">
</SpatRepTypCd>
</spatRpType>
<dataExt>
<geoEle>
<GeoBndBox esriExtentType="search">
<exTypeCode Sync="TRUE">1</exTypeCode>
<westBL Sync="TRUE">-180.000000</westBL>
<eastBL Sync="TRUE">180.000000</eastBL>
<northBL Sync="TRUE">71.421539</northBL>
<southBL Sync="TRUE">48.338576</southBL>
</GeoBndBox>
</geoEle>
</dataExt>
</dataIdInfo>
<dqInfo>
<dqScope>
<scpLvl>
<ScopeCd value="005">
</ScopeCd>
</scpLvl>
</dqScope>
<report type="DQConcConsis">
<measDesc>Manual and automated QA/QC checks on the NLCD 2011 Land Cover Alaska dataset verified the positional accuracy of the pixel grid and confirmed that all thematic attributes belonged to one of the approved NLCD classes.</measDesc>
</report>
<report type="DQCompOm">
<measDesc>This NLCD product of Alaska 2011 Land Cover layer is the version dated July 24, 2020.</measDesc>
</report>
<report type="DQQuanAttAcc">
<measDesc>A formal accuracy assessment was conducted for the NLCD 2001 Land Cover Alaska (citation 5). The overall Alaska thematic accuracy was 76.2% (s.e. 2.8%) at Level II and 83.9% (s.e. 2.1%) at Level I when agreement was defined as a match between the map label of the sampled pixel with either the primary or alternate reference label.</measDesc>
<evalMethDesc>Conclusions drawn from this information are the responsibility of the user.</evalMethDesc>
<measResult>
<QuanResult>
<quanVal>Unknown</quanVal>
</QuanResult>
</measResult>
</report>
<report dimension="horizontal" type="DQAbsExtPosAcc">
<measDesc>N/A</measDesc>
</report>
<report dimension="vertical" type="DQAbsExtPosAcc">
<measDesc>N/A</measDesc>
</report>
<dataLineage>
<prcStep>
<stepDesc>NPS IMD Land Cover Process Step: Land cover level 2 raster was reclassified to natural versus converted to remove unclassified or No Data raster cells. In some raster datasets, the NoData value is 128. In some cases the source raster is projected to the local spatial reference respective to the geographic area of interest: Alaska = Alaska Albers Equal Area Conic (North American Datum (NAD) 1983)), Well Known ID (WKID: 3338) Standard Operating Procedure: Processing Land Cover Source Data to Derive Landscape Dynamics Metrics: Anderson Level 1 and 2 Classification, and Natural vs. Converted Land Use. Available at https://irma.nps.gov/DataStore/Reference/Profile/2244308 Data Release Report: Source data processing for the National Land Cover Dataset and the Coastal Change Analysis Program for use with Landscape Dynamics in the Environmental Settings Protocol. Available at https://irma.nps.gov/DataStore/Reference/Profile/2284967</stepDesc>
<stepDateTm>2021-01-01</stepDateTm>
<stepSrc type="used">
<srcCitatn>
<resAltTitle>USGS National Land Cover Database</resAltTitle>
</srcCitatn>
</stepSrc>
<stepSrc type="produced">
<srcCitatn>
<resAltTitle>NLCD 2011 Alaska Natural Converted Classified Raster</resAltTitle>
</srcCitatn>
</stepSrc>
</prcStep>
</dataLineage>
</dqInfo>
<spatRepInfo>
<Georect>
<numDims>2</numDims>
<axisDimension type="001">
<dimSize>104424</dimSize>
<dimResol>
<value Sync="TRUE" uom="m">30.000000</value>
</dimResol>
</axisDimension>
<axisDimension type="002">
<dimSize>161190</dimSize>
<dimResol>
<value Sync="TRUE" uom="m">30.000000</value>
</dimResol>
</axisDimension>
<axisDimension type="003">
<dimSize>1</dimSize>
</axisDimension>
<cellGeo>
<CellGeoCd Sync="TRUE" value="002">
</CellGeoCd>
</cellGeo>
<tranParaAv Sync="TRUE">1</tranParaAv>
<chkPtAv Sync="TRUE">0</chkPtAv>
<cornerPts>
<pos Sync="TRUE">-2232344.073754 344775.066318</pos>
</cornerPts>
<cornerPts>
<pos Sync="TRUE">-2232344.073754 2380125.066318</pos>
</cornerPts>
<cornerPts>
<pos Sync="TRUE">1494765.926246 2380125.066318</pos>
</cornerPts>
<cornerPts>
<pos Sync="TRUE">1494765.926246 344775.066318</pos>
</cornerPts>
<centerPt>
<pos Sync="TRUE">-368789.073754 1362450.066318</pos>
</centerPt>
<ptInPixel>
<PixOrientCd Sync="TRUE" value="001">
</PixOrientCd>
</ptInPixel>
</Georect>
</spatRepInfo>
<eainfo>
<detailed Name="NPS_IMD_Landcover_Alaska_NaturalConverted_NLCD2011v16.tif.vat">
<enttyp>
<enttypl>NPS_IMD_Landcover_Alaska_NaturalConverted_NLCD2011v16.tif</enttypl>
<enttypd>NLCD Land Cover Layer</enttypd>
<enttypds>National Land Cover Database</enttypds>
<enttypt Sync="TRUE">Table</enttypt>
<enttypc Sync="TRUE">2</enttypc>
</enttyp>
<attr>
<attrlabl>Value</attrlabl>
<attrdef>Landcover Classification</attrdef>
<attrdefs>NPS IMD</attrdefs>
<attrdomv>
<edom>
<edomv>2</edomv>
<edomvd>Natural - Classification combines all natural land cover classes from the modified Anderson level 2 NLCD land cover classification. Includes: Open Water, Perennial Snow/Ice, Barren Land, Deciduous Forest, Evergreen Forest, Mixed Forest, Dwarf Shrub (Alaska only), Scrub/Shrub, Herbaceous, Sedge/Herbaceous (Alaska only), Lichens, Moss (Alaska only), Woody Wetlands, Emergent Herbaceous Wetlands (Alaska only). Natural land cover classification may not include all possible NLCD level 2 classes.</edomvd>
<edomvds>NPS IMD</edomvds>
</edom>
<edom>
<edomv>1</edomv>
<edomvd>Converted - Classification combines all human-altered land cover classes from the modified Anderson level 2 NLCD land cover classification. Includes: Developed Open Space, Developed Low Intensity, Developed Medium Intensity, Developed High Intensity, Cultivated Crops, and Pasture/Hay. Converted land cover classification may not include all possible NLCD level 2 classes.</edomvd>
<edomvds>NPS IMD</edomvds>
</edom>
</attrdomv>
<attalias Sync="TRUE">Value</attalias>
<attrtype Sync="TRUE">Integer</attrtype>
<attwidth Sync="TRUE">10</attwidth>
<atprecis Sync="TRUE">10</atprecis>
<attscale Sync="TRUE">0</attscale>
</attr>
<attr>
<attrlabl>Count</attrlabl>
<attrdef>A nominal integer value that designates the number of pixels that have each value in the file; histogram column in ERDAS Imagine raster attributes table</attrdef>
<attrdefs>ESRI</attrdefs>
<attrdomv>
<udom>Integer</udom>
</attrdomv>
<attalias Sync="TRUE">Count</attalias>
<attrtype Sync="TRUE">Double</attrtype>
<attwidth Sync="TRUE">19</attwidth>
<atprecis Sync="TRUE">0</atprecis>
<attscale Sync="TRUE">0</attscale>
</attr>
<attr>
<attrlabl>Green</attrlabl>
<attrdef>Green color code for RGB. The value is arbitrarily assigned by the display software package, unless defined by the user.</attrdef>
<attrdefs>NLCD</attrdefs>
<attrdomv>
<rdom>
<rdommin>0</rdommin>
<rdommax>100</rdommax>
<attrunit>Percentage</attrunit>
<attrmres>0.1</attrmres>
</rdom>
</attrdomv>
<attalias Sync="TRUE">Green</attalias>
<attrtype Sync="TRUE">Double</attrtype>
<attwidth Sync="TRUE">19</attwidth>
<atprecis Sync="TRUE">0</atprecis>
<attscale Sync="TRUE">0</attscale>
</attr>
<attr>
<attrlabl>Blue</attrlabl>
<attrdef>Blue color code for RGB. The value is arbitrarily assigned by the display software package, unless defined by the user.</attrdef>
<attrdefs>NLCD</attrdefs>
<attrdomv>
<rdom>
<rdommin>0</rdommin>
<rdommax>100</rdommax>
<attrunit>Percentage</attrunit>
<attrmres>0.1</attrmres>
</rdom>
</attrdomv>
<attalias Sync="TRUE">Blue</attalias>
<attrtype Sync="TRUE">Single</attrtype>
<attwidth Sync="TRUE">13</attwidth>
<atprecis Sync="TRUE">0</atprecis>
<attscale Sync="TRUE">0</attscale>
</attr>
<attr>
<attrlabl>CLASSNAME</attrlabl>
<attrdef>Landcover Classification</attrdef>
<attrdefs>NPS IMD</attrdefs>
<attrdomv>
<edom>
<edomv>Natural</edomv>
<edomvd>Classification combines all natural land cover classes from the modified Anderson level 2 NLCD land cover classification. Includes: Open Water, Perennial Snow/Ice, Barren Land, Deciduous Forest, Evergreen Forest, Mixed Forest, Dwarf Shrub (Alaska only), Scrub/Shrub, Herbaceous, Sedge/Herbaceous (Alaska only), Lichens, Moss (Alaska only), Woody Wetlands, Emergent Herbaceous Wetlands (Alaska only). Natural land cover classification may not include all possible NLCD level 2 classes. Land cover class value = 2</edomvd>
<edomvds>NPS IMD</edomvds>
</edom>
<edom>
<edomv>Converted</edomv>
<edomvd>Classification combines all human-altered land cover classes from the modified Anderson level 2 NLCD land cover classification. Includes: Developed Open Space, Developed Low Intensity, Developed Medium Intensity, Developed High Intensity, Cultivated Crops, and Pasture/Hay. Converted land cover classification may not include all possible NLCD level 2 classes. Land cover class value = 1</edomvd>
<edomvds>NPS IMD</edomvds>
</edom>
</attrdomv>
<attalias Sync="TRUE">CLASSNAME</attalias>
<attrtype Sync="TRUE">String</attrtype>
<attwidth Sync="TRUE">50</attwidth>
<atprecis Sync="TRUE">0</atprecis>
<attscale Sync="TRUE">0</attscale>
</attr>
<attr>
<attrlabl>Red</attrlabl>
<attrdef>Red color code for RGB. The value is arbitrarily assigned by the display software package, unless defined by the user.</attrdef>
<attrdefs>NLCD</attrdefs>
<attrdomv>
<rdom>
<rdommin>0</rdommin>
<rdommax>100</rdommax>
<attrunit>Percentage</attrunit>
<attrmres>0.1</attrmres>
</rdom>
</attrdomv>
<attalias Sync="TRUE">Red</attalias>
<attrtype Sync="TRUE">Double</attrtype>
<attwidth Sync="TRUE">19</attwidth>
<atprecis Sync="TRUE">0</atprecis>
<attscale Sync="TRUE">0</attscale>
</attr>
<attr>
<attrlabl>OID</attrlabl>
<attrdef>Internal feature number.</attrdef>
<attrdefs>Esri</attrdefs>
<attrdomv>
<udom>Sequential unique whole numbers that are automatically generated.</udom>
</attrdomv>
<attalias Sync="TRUE">OID</attalias>
<attrtype Sync="TRUE">OID</attrtype>
<attwidth Sync="TRUE">4</attwidth>
<atprecis Sync="TRUE">0</atprecis>
<attscale Sync="TRUE">0</attscale>
</attr>
</detailed>
</eainfo>
<mdHrLvName Sync="TRUE">dataset</mdHrLvName>
<refSysInfo>
<RefSystem>
<refSysID>
<identCode Sync="TRUE" code="3338">
</identCode>
<idCodeSpace Sync="TRUE">EPSG</idCodeSpace>
<idVersion Sync="TRUE">6.12(9.3.0.0)</idVersion>
</refSysID>
</RefSystem>
</refSysInfo>
<contInfo>
<ImgDesc>
<contentTyp>
<ContentTypCd Sync="TRUE" value="001">
</ContentTypCd>
</contentTyp>
<covDim>
<Band>
<dimDescrp Sync="TRUE">Band_1</dimDescrp>
<maxVal Sync="TRUE">2.000000</maxVal>
<minVal Sync="TRUE">1.000000</minVal>
<bitsPerVal Sync="TRUE">2</bitsPerVal>
<valUnit>
<UOM type="length">
</UOM>
</valUnit>
</Band>
</covDim>
</ImgDesc>
</contInfo>
</metadata>
